BEGIN:VCALENDAR
VERSION:2.0
PRODID:-//Town of Tunbridge, Vermont - ECPv6.15.20//NONSGML v1.0//EN
CALSCALE:GREGORIAN
METHOD:PUBLISH
X-ORIGINAL-URL:https://tunbridgevt.org
X-WR-CALDESC:Events for Town of Tunbridge, Vermont
REFRESH-INTERVAL;VALUE=DURATION:PT1H
X-Robots-Tag:noindex
X-PUBLISHED-TTL:PT1H
BEGIN:VTIMEZONE
TZID:America/New_York
BEGIN:DAYLIGHT
TZOFFSETFROM:-0500
TZOFFSETTO:-0400
TZNAME:EDT
DTSTART:20250309T070000
END:DAYLIGHT
BEGIN:STANDARD
TZOFFSETFROM:-0400
TZOFFSETTO:-0500
TZNAME:EST
DTSTART:20251102T060000
END:STANDARD
BEGIN:DAYLIGHT
TZOFFSETFROM:-0500
TZOFFSETTO:-0400
TZNAME:EDT
DTSTART:20260308T070000
END:DAYLIGHT
BEGIN:STANDARD
TZOFFSETFROM:-0400
TZOFFSETTO:-0500
TZNAME:EST
DTSTART:20261101T060000
END:STANDARD
BEGIN:DAYLIGHT
TZOFFSETFROM:-0500
TZOFFSETTO:-0400
TZNAME:EDT
DTSTART:20270314T070000
END:DAYLIGHT
BEGIN:STANDARD
TZOFFSETFROM:-0400
TZOFFSETTO:-0500
TZNAME:EST
DTSTART:20271107T060000
END:STANDARD
END:VTIMEZONE
BEGIN:VEVENT
DTSTART;TZID=America/New_York:20260107T180000
DTEND;TZID=America/New_York:20260107T190000
DTSTAMP:20260422T114107
CREATED:20260105T014612Z
LAST-MODIFIED:20260105T014612Z
UID:8949-1767808800-1767812400@tunbridgevt.org
SUMMARY:Planning Commission
DESCRIPTION:Planning Commission meeting. Follow this link to view the agenda.
URL:https://tunbridgevt.org/event/planning-commission-20260107/
LOCATION:Town Offices\, 271 Vermont Route 110\, Tunbridge\, VT\, 05077\, United States
END:VEVENT
BEGIN:VEVENT
DTSTART;TZID=America/New_York:20260108T180000
DTEND;TZID=America/New_York:20260108T200000
DTSTAMP:20260422T114107
CREATED:20260103T042951Z
LAST-MODIFIED:20260103T042951Z
UID:8932-1767895200-1767902400@tunbridgevt.org
SUMMARY:Conservation Commission
DESCRIPTION:Conservation Commission meeting. Follow this link to see the agenda.
URL:https://tunbridgevt.org/event/conservation-commission-20260108/
LOCATION:Tunbridge Public Library\, 289 Vermont Route 110\, Tunbridge\, VT\, 05077\, United States
END:VEVENT
BEGIN:VEVENT
DTSTART;TZID=America/New_York:20260113T180000
DTEND;TZID=America/New_York:20260113T200000
DTSTAMP:20260422T114107
CREATED:20260110T022615Z
LAST-MODIFIED:20260110T022615Z
UID:8957-1768327200-1768334400@tunbridgevt.org
SUMMARY:Selectboard meeting
DESCRIPTION:Selectboard meeting in person and via Zoom. Follow this link to view the agenda. \nClick here to join the Zoom meeting.
URL:https://tunbridgevt.org/event/selectboard-meeting-20260113/
LOCATION:Town Offices\, 271 Vermont Route 110\, Tunbridge\, VT\, 05077\, United States
END:VEVENT
BEGIN:VEVENT
DTSTART;TZID=America/New_York:20260118T140000
DTEND;TZID=America/New_York:20260118T160000
DTSTAMP:20260422T114107
CREATED:20260111T002248Z
LAST-MODIFIED:20260111T002248Z
UID:8961-1768744800-1768752000@tunbridgevt.org
SUMMARY:Sunday Series
DESCRIPTION:“The Violin Family Plays . . .” Tunbridge Public Library Sunday Series free 2 p.m. family program with cellist Melissa Perley. The author of two children’s books about the violin family is a performer and teacher who was recently invited to be a representative for the Children’s Literacy Foundation.
URL:https://tunbridgevt.org/event/sunday-series-20260118/
LOCATION:Tunbridge Public Library\, 289 Vermont Route 110\, Tunbridge\, VT\, 05077\, United States
END:VEVENT
BEGIN:VEVENT
DTSTART;TZID=America/New_York:20260123T190000
DTEND;TZID=America/New_York:20260123T210000
DTSTAMP:20260422T114107
CREATED:20260103T043755Z
LAST-MODIFIED:20260103T044146Z
UID:8934-1769194800-1769202000@tunbridgevt.org
SUMMARY:Winter Evenings
DESCRIPTION:The Tunbridge Conservation Commission’s Winter Evenings: \n“From Bedrock to Maple: The Landscape of Tunbridge\,” presented by Walter Poleman\, Director of the Field Naturalist Program at UVM \nExploring the geology of Tunbridge and the White River Watershed \nQuestions? Contact tunbridgeconservation@gmail.com
URL:https://tunbridgevt.org/event/winter-evenings-20260123/
LOCATION:Tunbridge Public Library\, 289 Vermont Route 110\, Tunbridge\, VT\, 05077\, United States
END:VEVENT
BEGIN:VEVENT
DTSTART;TZID=America/New_York:20260127T180000
DTEND;TZID=America/New_York:20260127T200000
DTSTAMP:20260422T114107
CREATED:20260124T033752Z
LAST-MODIFIED:20260124T033752Z
UID:9004-1769536800-1769544000@tunbridgevt.org
SUMMARY:Selectboard meeting
DESCRIPTION:Selectboard meeting in person and via Zoom. Follow this link to view the agenda. \nClick here to join the Zoom meeting.
URL:https://tunbridgevt.org/event/selectboard-meeting-20260127/
LOCATION:Town Offices\, 271 Vermont Route 110\, Tunbridge\, VT\, 05077\, United States
END:VEVENT
END:VCALENDAR