BEGIN:VCALENDAR
VERSION:2.0
PRODID:-//Town of Tunbridge, Vermont - ECPv6.15.20//NONSGML v1.0//EN
CALSCALE:GREGORIAN
METHOD:PUBLISH
X-ORIGINAL-URL:https://tunbridgevt.org
X-WR-CALDESC:Events for Town of Tunbridge, Vermont
REFRESH-INTERVAL;VALUE=DURATION:PT1H
X-Robots-Tag:noindex
X-PUBLISHED-TTL:PT1H
BEGIN:VTIMEZONE
TZID:America/New_York
BEGIN:DAYLIGHT
TZOFFSETFROM:-0500
TZOFFSETTO:-0400
TZNAME:EDT
DTSTART:20250309T070000
END:DAYLIGHT
BEGIN:STANDARD
TZOFFSETFROM:-0400
TZOFFSETTO:-0500
TZNAME:EST
DTSTART:20251102T060000
END:STANDARD
BEGIN:DAYLIGHT
TZOFFSETFROM:-0500
TZOFFSETTO:-0400
TZNAME:EDT
DTSTART:20260308T070000
END:DAYLIGHT
BEGIN:STANDARD
TZOFFSETFROM:-0400
TZOFFSETTO:-0500
TZNAME:EST
DTSTART:20261101T060000
END:STANDARD
BEGIN:DAYLIGHT
TZOFFSETFROM:-0500
TZOFFSETTO:-0400
TZNAME:EDT
DTSTART:20270314T070000
END:DAYLIGHT
BEGIN:STANDARD
TZOFFSETFROM:-0400
TZOFFSETTO:-0500
TZNAME:EST
DTSTART:20271107T060000
END:STANDARD
END:VTIMEZONE
BEGIN:VEVENT
DTSTART;TZID=America/New_York:20260302T190000
DTEND;TZID=America/New_York:20260302T210000
DTSTAMP:20260422T184833
CREATED:20260204T005649Z
LAST-MODIFIED:20260218T012105Z
UID:9034-1772478000-1772485200@tunbridgevt.org
SUMMARY:School Meeting
DESCRIPTION:First Branch Unified School District annual meeting and balloting. Follow this link to see the Warning. Click here to read or download the Annual Report.
URL:https://tunbridgevt.org/event/school-meeting-20260302/
LOCATION:Tunbridge Central School\, 523 Vermont Route 110\, Tunbridge\, 05077\, United States
END:VEVENT
BEGIN:VEVENT
DTSTART;TZID=America/New_York:20260303T100000
DTEND;TZID=America/New_York:20260303T143000
DTSTAMP:20260422T184833
CREATED:20260204T005422Z
LAST-MODIFIED:20260216T235251Z
UID:9032-1772532000-1772548200@tunbridgevt.org
SUMMARY:Town Meeting
DESCRIPTION:Town Meeting. Follow this link to read or download the Warning. Click here to see the Town Report.
URL:https://tunbridgevt.org/event/town-meeting-20260303/
LOCATION:Tunbridge Central School\, 523 Vermont Route 110\, Tunbridge\, 05077\, United States
END:VEVENT
BEGIN:VEVENT
DTSTART;TZID=America/New_York:20260305T180000
DTEND;TZID=America/New_York:20260305T200000
DTSTAMP:20260422T184833
CREATED:20260226T034045Z
LAST-MODIFIED:20260226T034947Z
UID:9111-1772733600-1772740800@tunbridgevt.org
SUMMARY:Conservation Commission
DESCRIPTION:Conservation Commission meeting. Follow this link to see the agenda.
URL:https://tunbridgevt.org/event/conservation-commission-20260305/
LOCATION:Tunbridge Public Library\, 289 Vermont Route 110\, Tunbridge\, VT\, 05077\, United States
END:VEVENT
BEGIN:VEVENT
DTSTART;TZID=America/New_York:20260309T090000
DTEND;TZID=America/New_York:20260309T110000
DTSTAMP:20260422T184833
CREATED:20260308T134856Z
LAST-MODIFIED:20260308T134856Z
UID:9130-1773046800-1773054000@tunbridgevt.org
SUMMARY:Fuel Loan Assistance Committee
DESCRIPTION:Fuel Loan Assistance Committee meeting. Follow this link to see the agenda.
URL:https://tunbridgevt.org/event/fuel-loan-assistance-committee-20260309/
LOCATION:Town Offices\, 271 Vermont Route 110\, Tunbridge\, VT\, 05077\, United States
END:VEVENT
BEGIN:VEVENT
DTSTART;TZID=America/New_York:20260310T180000
DTEND;TZID=America/New_York:20260310T200000
DTSTAMP:20260422T184833
CREATED:20260308T135441Z
LAST-MODIFIED:20260308T135441Z
UID:9135-1773165600-1773172800@tunbridgevt.org
SUMMARY:Selectboard meeting
DESCRIPTION:Selectboard meeting in person and via Zoom. Follow this link to view the agenda. \nClick here to join the Zoom meeting.
URL:https://tunbridgevt.org/event/selectboard-meeting-20260310/
LOCATION:Town Offices\, 271 Vermont Route 110\, Tunbridge\, VT\, 05077\, United States
END:VEVENT
BEGIN:VEVENT
DTSTART;TZID=America/New_York:20260311T180000
DTEND;TZID=America/New_York:20260311T190000
DTSTAMP:20260422T184833
CREATED:20260310T010348Z
LAST-MODIFIED:20260310T010348Z
UID:9150-1773252000-1773255600@tunbridgevt.org
SUMMARY:Planning Commission
DESCRIPTION:Planning Commission meeting. Follow this link to view the agenda.
URL:https://tunbridgevt.org/event/planning-commission-20260311/
LOCATION:Town Offices\, 271 Vermont Route 110\, Tunbridge\, VT\, 05077\, United States
END:VEVENT
BEGIN:VEVENT
DTSTART;TZID=America/New_York:20260315T140000
DTEND;TZID=America/New_York:20260315T160000
DTSTAMP:20260422T184833
CREATED:20260111T002940Z
LAST-MODIFIED:20260111T002940Z
UID:8969-1773583200-1773590400@tunbridgevt.org
SUMMARY:Sunday Series
DESCRIPTION:“Preserving Vermont’s Covered Bridges\,” a Tunbridge Public Library Sunday Series free 2 p.m. program presented by The Vermont Covered Bridge Society. It was started in 2000 to address the loss of these bridges and to preserve remaining bridges. Tunbridge is one of five towns with five surviving bridges.
URL:https://tunbridgevt.org/event/sunday-series-20260315/
LOCATION:Tunbridge Public Library\, 289 Vermont Route 110\, Tunbridge\, VT\, 05077\, United States
END:VEVENT
BEGIN:VEVENT
DTSTART;TZID=America/New_York:20260320T190000
DTEND;TZID=America/New_York:20260320T210000
DTSTAMP:20260422T184833
CREATED:20260103T044726Z
LAST-MODIFIED:20260103T044843Z
UID:8939-1774033200-1774040400@tunbridgevt.org
SUMMARY:Winter Evenings
DESCRIPTION:The Tunbridge Conservation Commission’s Winter Evenings: \n“Forests Managment & Water Quality” presented by Dave Wilcox\, Watershed Forester  \nLearn how forest management can impact water quality and what the State of Vermont is doing to assist land managers in protecting water quality. \nQuestions? Contact tunbridgeconservation@gmail.com
URL:https://tunbridgevt.org/event/winter-evenings-20260320/
LOCATION:Tunbridge Public Library\, 289 Vermont Route 110\, Tunbridge\, VT\, 05077\, United States
END:VEVENT
BEGIN:VEVENT
DTSTART;TZID=America/New_York:20260324T123000
DTEND;TZID=America/New_York:20260324T140000
DTSTAMP:20260422T184833
CREATED:20260317T231823Z
LAST-MODIFIED:20260317T231823Z
UID:9179-1774355400-1774360800@tunbridgevt.org
SUMMARY:Fuel Loan Assistance Committee
DESCRIPTION:Fuel Loan Assistance Committee meeting. Follow this link to see the agenda.
URL:https://tunbridgevt.org/event/fuel-loan-assistance-committee-20260324/
LOCATION:Town Offices\, 271 Vermont Route 110\, Tunbridge\, VT\, 05077\, United States
END:VEVENT
BEGIN:VEVENT
DTSTART;TZID=America/New_York:20260324T180000
DTEND;TZID=America/New_York:20260324T200000
DTSTAMP:20260422T184833
CREATED:20260321T202741Z
LAST-MODIFIED:20260321T202741Z
UID:9188-1774375200-1774382400@tunbridgevt.org
SUMMARY:Selectboard meeting
DESCRIPTION:Selectboard meeting in person and via Zoom. Follow this link to view the agenda. \nClick here to join the Zoom meeting.
URL:https://tunbridgevt.org/event/selectboard-meeting-20260324/
LOCATION:Town Offices\, 271 Vermont Route 110\, Tunbridge\, VT\, 05077\, United States
END:VEVENT
BEGIN:VEVENT
DTSTART;TZID=America/New_York:20260329T140000
DTEND;TZID=America/New_York:20260329T160000
DTSTAMP:20260422T184833
CREATED:20260111T003220Z
LAST-MODIFIED:20260111T003220Z
UID:8971-1774792800-1774800000@tunbridgevt.org
SUMMARY:Sunday Series
DESCRIPTION:“Resourcing for Resilience: Herbal Medicine & Deep Earth Connection\,” a Tunbridge Public Library Sunday Series free 2 p.m. program. Tunbridge herbalist and holistic health practitioner Alanna Birch’s immersive program will introduce the sensory qualities and unique personalities of various herbs.
URL:https://tunbridgevt.org/event/sunday-series-20260329/
LOCATION:Tunbridge Public Library\, 289 Vermont Route 110\, Tunbridge\, VT\, 05077\, United States
END:VEVENT
BEGIN:VEVENT
DTSTART;TZID=America/New_York:20260402T180000
DTEND;TZID=America/New_York:20260402T200000
DTSTAMP:20260422T184833
CREATED:20260325T014709Z
LAST-MODIFIED:20260325T014709Z
UID:9196-1775152800-1775160000@tunbridgevt.org
SUMMARY:Conservation Commission
DESCRIPTION:Conservation Commission meeting. Follow this link to see the agenda.
URL:https://tunbridgevt.org/event/conservation-commission-20260402/
LOCATION:Tunbridge Public Library\, 289 Vermont Route 110\, Tunbridge\, VT\, 05077\, United States
END:VEVENT
BEGIN:VEVENT
DTSTART;TZID=America/New_York:20260406T173000
DTEND;TZID=America/New_York:20260406T193000
DTSTAMP:20260422T184833
CREATED:20260404T030630Z
LAST-MODIFIED:20260404T030630Z
UID:9228-1775496600-1775503800@tunbridgevt.org
SUMMARY:Board of Auditors
DESCRIPTION:Board of Auditors meeting. Follow this link for the agenda.
URL:https://tunbridgevt.org/event/board-of-auditors-20260406/
LOCATION:Town Offices\, 271 Vermont Route 110\, Tunbridge\, VT\, 05077\, United States
END:VEVENT
BEGIN:VEVENT
DTSTART;TZID=America/New_York:20260409T180000
DTEND;TZID=America/New_York:20260409T200000
DTSTAMP:20260422T184833
CREATED:20260329T143658Z
LAST-MODIFIED:20260329T143658Z
UID:9206-1775757600-1775764800@tunbridgevt.org
SUMMARY:Trails Committee
DESCRIPTION:Trails Committee meeting. Follow this link to see the agenda.
URL:https://tunbridgevt.org/event/trails-committee-20260409/
LOCATION:Tunbridge Public Library\, 289 Vermont Route 110\, Tunbridge\, VT\, 05077\, United States
END:VEVENT
BEGIN:VEVENT
DTSTART;TZID=America/New_York:20260414T180000
DTEND;TZID=America/New_York:20260414T200000
DTSTAMP:20260422T184833
CREATED:20260412T040708Z
LAST-MODIFIED:20260412T040854Z
UID:9238-1776189600-1776196800@tunbridgevt.org
SUMMARY:Selectboard meeting
DESCRIPTION:Selectboard meeting in person and via Zoom. Follow this link to view the agenda. \nClick here to join the Zoom meeting.
URL:https://tunbridgevt.org/event/selectboard-meeting-20260414/
LOCATION:Town Offices\, 271 Vermont Route 110\, Tunbridge\, VT\, 05077\, United States
END:VEVENT
BEGIN:VEVENT
DTSTART;TZID=America/New_York:20260501T190000
DTEND;TZID=America/New_York:20260501T210000
DTSTAMP:20260422T184833
CREATED:20260422T212613Z
LAST-MODIFIED:20260422T212613Z
UID:9266-1777662000-1777669200@tunbridgevt.org
SUMMARY:Owls & Their Calls
DESCRIPTION:The Tunbridge Conservation Commission is hosting the presentation Owls & Their Calls by the Vermont Institute of Natural Science. Please email tunbridgeconservation@gmail.com to save a place!
URL:https://tunbridgevt.org/event/owls-their-calls-20260501/
LOCATION:Tunbridge Public Library\, 289 Vermont Route 110\, Tunbridge\, VT\, 05077\, United States
END:VEVENT
BEGIN:VEVENT
DTSTART;TZID=America/New_York:20260509T073000
DTEND;TZID=America/New_York:20260509T093000
DTSTAMP:20260422T184833
CREATED:20260422T212125Z
LAST-MODIFIED:20260422T212209Z
UID:9262-1778311800-1778319000@tunbridgevt.org
SUMMARY:Tunbridge Bird Walk
DESCRIPTION:The Tunbridge Conservation Commission is excited to offer a guided walk on May 9. Participants will have the opportunity to observe a variety of bird species. We will meet at Wicopy Woods at 7:30 am. \nThis bird-watching walk is designed for everyone\, regardless of experience level. To join\, simply email tunbridgeconservation@gmail.com or just show up! \nParticipants are encouraged to wear suitable footwear and light-colored\, long-sleeved clothing for tick prevention. Hope to see you on May 9th!
URL:https://tunbridgevt.org/event/tunbridge-bird-walk-20260509/
LOCATION:Town Garage\, Recreation Road\, Tunbridge\, VT\, 05077\, United States
END:VEVENT
BEGIN:VEVENT
DTSTART;TZID=America/New_York:20260530T090000
DTEND;TZID=America/New_York:20260530T130000
DTSTAMP:20260422T184833
CREATED:20260401T005308Z
LAST-MODIFIED:20260401T005308Z
UID:9219-1780131600-1780146000@tunbridgevt.org
SUMMARY:Household Hazardous Waste
DESCRIPTION:The Central Vermont Solid Waste Management District is collecting household hazardous waste. Follow this link for more information.
URL:https://tunbridgevt.org/event/household-hazardous-waste-20260530/
LOCATION:Tunbridge Transfer Station\, 64 Recreation Road\, Tunbridge\, VT\, 05077\, United States
END:VEVENT
END:VCALENDAR