BEGIN:VCALENDAR
VERSION:2.0
PRODID:-//Town of Tunbridge, Vermont - ECPv6.15.20//NONSGML v1.0//EN
CALSCALE:GREGORIAN
METHOD:PUBLISH
X-ORIGINAL-URL:https://tunbridgevt.org
X-WR-CALDESC:Events for Town of Tunbridge, Vermont
REFRESH-INTERVAL;VALUE=DURATION:PT1H
X-Robots-Tag:noindex
X-PUBLISHED-TTL:PT1H
BEGIN:VTIMEZONE
TZID:America/New_York
BEGIN:DAYLIGHT
TZOFFSETFROM:-0500
TZOFFSETTO:-0400
TZNAME:EDT
DTSTART:20250309T070000
END:DAYLIGHT
BEGIN:STANDARD
TZOFFSETFROM:-0400
TZOFFSETTO:-0500
TZNAME:EST
DTSTART:20251102T060000
END:STANDARD
BEGIN:DAYLIGHT
TZOFFSETFROM:-0500
TZOFFSETTO:-0400
TZNAME:EDT
DTSTART:20260308T070000
END:DAYLIGHT
BEGIN:STANDARD
TZOFFSETFROM:-0400
TZOFFSETTO:-0500
TZNAME:EST
DTSTART:20261101T060000
END:STANDARD
BEGIN:DAYLIGHT
TZOFFSETFROM:-0500
TZOFFSETTO:-0400
TZNAME:EDT
DTSTART:20270314T070000
END:DAYLIGHT
BEGIN:STANDARD
TZOFFSETFROM:-0400
TZOFFSETTO:-0500
TZNAME:EST
DTSTART:20271107T060000
END:STANDARD
END:VTIMEZONE
BEGIN:VEVENT
DTSTART;TZID=America/New_York:20260329T140000
DTEND;TZID=America/New_York:20260329T160000
DTSTAMP:20260422T124321
CREATED:20260111T003220Z
LAST-MODIFIED:20260111T003220Z
UID:8971-1774792800-1774800000@tunbridgevt.org
SUMMARY:Sunday Series
DESCRIPTION:“Resourcing for Resilience: Herbal Medicine & Deep Earth Connection\,” a Tunbridge Public Library Sunday Series free 2 p.m. program. Tunbridge herbalist and holistic health practitioner Alanna Birch’s immersive program will introduce the sensory qualities and unique personalities of various herbs.
URL:https://tunbridgevt.org/event/sunday-series-20260329/
LOCATION:Tunbridge Public Library\, 289 Vermont Route 110\, Tunbridge\, VT\, 05077\, United States
END:VEVENT
BEGIN:VEVENT
DTSTART;TZID=America/New_York:20260402T180000
DTEND;TZID=America/New_York:20260402T200000
DTSTAMP:20260422T124321
CREATED:20260325T014709Z
LAST-MODIFIED:20260325T014709Z
UID:9196-1775152800-1775160000@tunbridgevt.org
SUMMARY:Conservation Commission
DESCRIPTION:Conservation Commission meeting. Follow this link to see the agenda.
URL:https://tunbridgevt.org/event/conservation-commission-20260402/
LOCATION:Tunbridge Public Library\, 289 Vermont Route 110\, Tunbridge\, VT\, 05077\, United States
END:VEVENT
BEGIN:VEVENT
DTSTART;TZID=America/New_York:20260406T173000
DTEND;TZID=America/New_York:20260406T193000
DTSTAMP:20260422T124321
CREATED:20260404T030630Z
LAST-MODIFIED:20260404T030630Z
UID:9228-1775496600-1775503800@tunbridgevt.org
SUMMARY:Board of Auditors
DESCRIPTION:Board of Auditors meeting. Follow this link for the agenda.
URL:https://tunbridgevt.org/event/board-of-auditors-20260406/
LOCATION:Town Offices\, 271 Vermont Route 110\, Tunbridge\, VT\, 05077\, United States
END:VEVENT
BEGIN:VEVENT
DTSTART;TZID=America/New_York:20260409T180000
DTEND;TZID=America/New_York:20260409T200000
DTSTAMP:20260422T124321
CREATED:20260329T143658Z
LAST-MODIFIED:20260329T143658Z
UID:9206-1775757600-1775764800@tunbridgevt.org
SUMMARY:Trails Committee
DESCRIPTION:Trails Committee meeting. Follow this link to see the agenda.
URL:https://tunbridgevt.org/event/trails-committee-20260409/
LOCATION:Tunbridge Public Library\, 289 Vermont Route 110\, Tunbridge\, VT\, 05077\, United States
END:VEVENT
BEGIN:VEVENT
DTSTART;TZID=America/New_York:20260414T180000
DTEND;TZID=America/New_York:20260414T200000
DTSTAMP:20260422T124321
CREATED:20260412T040708Z
LAST-MODIFIED:20260412T040854Z
UID:9238-1776189600-1776196800@tunbridgevt.org
SUMMARY:Selectboard meeting
DESCRIPTION:Selectboard meeting in person and via Zoom. Follow this link to view the agenda. \nClick here to join the Zoom meeting.
URL:https://tunbridgevt.org/event/selectboard-meeting-20260414/
LOCATION:Town Offices\, 271 Vermont Route 110\, Tunbridge\, VT\, 05077\, United States
END:VEVENT
BEGIN:VEVENT
DTSTART;TZID=America/New_York:20260530T090000
DTEND;TZID=America/New_York:20260530T130000
DTSTAMP:20260422T124321
CREATED:20260401T005308Z
LAST-MODIFIED:20260401T005308Z
UID:9219-1780131600-1780146000@tunbridgevt.org
SUMMARY:Household Hazardous Waste
DESCRIPTION:The Central Vermont Solid Waste Management District is collecting household hazardous waste. Follow this link for more information.
URL:https://tunbridgevt.org/event/household-hazardous-waste-20260530/
LOCATION:Tunbridge Transfer Station\, 64 Recreation Road\, Tunbridge\, VT\, 05077\, United States
END:VEVENT
END:VCALENDAR