BEGIN:VCALENDAR
VERSION:2.0
PRODID:-//Town of Tunbridge, Vermont - ECPv6.15.20//NONSGML v1.0//EN
CALSCALE:GREGORIAN
METHOD:PUBLISH
X-ORIGINAL-URL:https://tunbridgevt.org
X-WR-CALDESC:Events for Town of Tunbridge, Vermont
REFRESH-INTERVAL;VALUE=DURATION:PT1H
X-Robots-Tag:noindex
X-PUBLISHED-TTL:PT1H
BEGIN:VTIMEZONE
TZID:America/New_York
BEGIN:DAYLIGHT
TZOFFSETFROM:-0500
TZOFFSETTO:-0400
TZNAME:EDT
DTSTART:20240310T070000
END:DAYLIGHT
BEGIN:STANDARD
TZOFFSETFROM:-0400
TZOFFSETTO:-0500
TZNAME:EST
DTSTART:20241103T060000
END:STANDARD
BEGIN:DAYLIGHT
TZOFFSETFROM:-0500
TZOFFSETTO:-0400
TZNAME:EDT
DTSTART:20250309T070000
END:DAYLIGHT
BEGIN:STANDARD
TZOFFSETFROM:-0400
TZOFFSETTO:-0500
TZNAME:EST
DTSTART:20251102T060000
END:STANDARD
BEGIN:DAYLIGHT
TZOFFSETFROM:-0500
TZOFFSETTO:-0400
TZNAME:EDT
DTSTART:20260308T070000
END:DAYLIGHT
BEGIN:STANDARD
TZOFFSETFROM:-0400
TZOFFSETTO:-0500
TZNAME:EST
DTSTART:20261101T060000
END:STANDARD
END:VTIMEZONE
BEGIN:VEVENT
DTSTART;TZID=America/New_York:20250610T123000
DTEND;TZID=America/New_York:20250610T143000
DTSTAMP:20260422T175403
CREATED:20250605T032410Z
LAST-MODIFIED:20250605T032410Z
UID:8471-1749558600-1749565800@tunbridgevt.org
SUMMARY:Fuel Loan Assistance Committee
DESCRIPTION:Fuel Loan Assistance Committee meeting. Follow this link to see the agenda.
URL:https://tunbridgevt.org/event/fuel-loan-assistance-committee-20250610/
LOCATION:Town Offices\, 271 Vermont Route 110\, Tunbridge\, VT\, 05077\, United States
END:VEVENT
BEGIN:VEVENT
DTSTART;TZID=America/New_York:20250610T180000
DTEND;TZID=America/New_York:20250610T200000
DTSTAMP:20260422T175403
CREATED:20250606T025021Z
LAST-MODIFIED:20250606T025021Z
UID:8479-1749578400-1749585600@tunbridgevt.org
SUMMARY:Selectboard meeting
DESCRIPTION:Selectboard meeting in person and via the Zoom app. Follow this link to see the agenda. \nClick here to join the Zoom Meeting.
URL:https://tunbridgevt.org/event/selectboard-meeting-20250610/
LOCATION:Town Offices\, 271 Vermont Route 110\, Tunbridge\, VT\, 05077\, United States
END:VEVENT
BEGIN:VEVENT
DTSTART;TZID=America/New_York:20250611T180000
DTEND;TZID=America/New_York:20250611T200000
DTSTAMP:20260422T175403
CREATED:20250608T125800Z
LAST-MODIFIED:20250608T125800Z
UID:8484-1749664800-1749672000@tunbridgevt.org
SUMMARY:Trails Committee
DESCRIPTION:Trails Committee meeting. Follow this link to see the agenda.
URL:https://tunbridgevt.org/event/trails-committee-20250611/
LOCATION:Tunbridge Public Library\, 289 Vermont Route 110\, Tunbridge\, VT\, 05077\, United States
END:VEVENT
BEGIN:VEVENT
DTSTART;TZID=America/New_York:20250611T200000
DTEND;TZID=America/New_York:20250611T210000
DTSTAMP:20260422T175403
CREATED:20250611T013442Z
LAST-MODIFIED:20250611T013442Z
UID:8490-1749672000-1749675600@tunbridgevt.org
SUMMARY:Selectboard meeting
DESCRIPTION:The Tunbridge Selectboard will hold an emergency executive session regarding the ongoing legal trial lawsuit.
URL:https://tunbridgevt.org/event/selectboard-meeting-20250611/
LOCATION:Town Offices\, 271 Vermont Route 110\, Tunbridge\, VT\, 05077\, United States
END:VEVENT
BEGIN:VEVENT
DTSTART;TZID=America/New_York:20250615T080000
DTEND;TZID=America/New_York:20250615T130000
DTSTAMP:20260422T175403
CREATED:20250518T011748Z
LAST-MODIFIED:20250518T011802Z
UID:8368-1749974400-1749992400@tunbridgevt.org
SUMMARY:Breakfast fundraiser
DESCRIPTION:Tunbridge Recreation Committee’s all-you-can-eat breakfast. It is a fundraiser for the Community Food Shelf\, which serves people from Tunbridge and the area.
URL:https://tunbridgevt.org/event/breakfast-fundraiser-20250615/
LOCATION:Town Hall\, 277 Vermont Route 110\, Tunbridge\, VT\, 05077\, United States
END:VEVENT
BEGIN:VEVENT
DTSTART;TZID=America/New_York:20250615T190000
DTEND;TZID=America/New_York:20250615T220000
DTSTAMP:20260422T175403
CREATED:20250518T011956Z
LAST-MODIFIED:20250518T011956Z
UID:8370-1750014000-1750024800@tunbridgevt.org
SUMMARY:Ed Larkin Contra Dancers
DESCRIPTION:Ed Larkin Contra Dancers with live music and refreshments at intermission.
URL:https://tunbridgevt.org/event/ed-larkin-contra-dancers-20250615/
LOCATION:Town Hall\, 277 Vermont Route 110\, Tunbridge\, VT\, 05077\, United States
END:VEVENT
BEGIN:VEVENT
DTSTART;TZID=America/New_York:20250618T120000
DTEND;TZID=America/New_York:20250618T130000
DTSTAMP:20260422T175403
CREATED:20250518T012205Z
LAST-MODIFIED:20250518T012205Z
UID:8372-1750248000-1750251600@tunbridgevt.org
SUMMARY:Super Senior Luncheon
DESCRIPTION:Super Senior Luncheon for residents in their 80s and 90s\, hosted by The Tunbridge Church’s Outreach Committee.
URL:https://tunbridgevt.org/event/super-senior-luncheon-20250618/
LOCATION:Town Hall\, 277 Vermont Route 110\, Tunbridge\, VT\, 05077\, United States
END:VEVENT
BEGIN:VEVENT
DTSTART;TZID=America/New_York:20250624T180000
DTEND;TZID=America/New_York:20250624T200000
DTSTAMP:20260422T175403
CREATED:20250619T213248Z
LAST-MODIFIED:20250619T213248Z
UID:8514-1750788000-1750795200@tunbridgevt.org
SUMMARY:Selectboard meeting
DESCRIPTION:Selectboard meeting in person and via the Zoom app. Follow this link to see the agenda. \nClick here to join the Zoom Meeting.
URL:https://tunbridgevt.org/event/selectboard-meeting-20250624/
LOCATION:Town Offices\, 271 Vermont Route 110\, Tunbridge\, VT\, 05077\, United States
END:VEVENT
BEGIN:VEVENT
DTSTART;TZID=America/New_York:20250628T133000
DTEND;TZID=America/New_York:20250628T143000
DTSTAMP:20260422T175403
CREATED:20250518T012708Z
LAST-MODIFIED:20250523T002402Z
UID:8374-1751117400-1751121000@tunbridgevt.org
SUMMARY:Lafayette 200
DESCRIPTION:A celebration in Vermont (Windsor\, Woodstock\, Royalton\, Montpelier\, Burlington and more) of the Marquis de Lafayette’s two day visit to Vermont\, the last official stop on a 24 state visit that took more than a year. A Lafayette character actor will appear at each event planned by the towns along the original tour route. \nIn Royalton\, Lafayette was met by 103 members of the Tunbridge Cavalry Company to escort him to town. At the current Lafayette marker on Route 14\, Royalton will welcome General Lafayette; in case of inclement weather the meeting will be in the former St. Paul’s Episcopal Church building next to the marker. \nFollow this link for more information.
URL:https://tunbridgevt.org/event/lafayette-200/
LOCATION:VT
END:VEVENT
BEGIN:VEVENT
DTSTART;VALUE=DATE:20250629
DTEND;VALUE=DATE:20250630
DTSTAMP:20260422T175403
CREATED:20250518T014053Z
LAST-MODIFIED:20250523T002511Z
UID:8376-1751155200-1751241599@tunbridgevt.org
SUMMARY:Tunbridge barns
DESCRIPTION:Tunbridge Historical Society bus tour of the town’s barns. Follow this link for more information.
URL:https://tunbridgevt.org/event/tunbridge-barns-20250629/
LOCATION:Tunbridge Central School\, 523 Vermont Route 110\, Tunbridge\, 05077\, United States
END:VEVENT
BEGIN:VEVENT
DTSTART;TZID=America/New_York:20250703T180000
DTEND;TZID=America/New_York:20250703T200000
DTSTAMP:20260422T175403
CREATED:20250702T134408Z
LAST-MODIFIED:20250702T134408Z
UID:8538-1751565600-1751572800@tunbridgevt.org
SUMMARY:Conservation Commission
DESCRIPTION:Conservation commission meeting. Follow this link to see the agenda.
URL:https://tunbridgevt.org/event/conservation-commission-20250703/
LOCATION:Tunbridge Public Library\, 289 Vermont Route 110\, Tunbridge\, VT\, 05077\, United States
END:VEVENT
BEGIN:VEVENT
DTSTART;VALUE=DATE:20250708
DTEND;VALUE=DATE:20250709
DTSTAMP:20260422T175403
CREATED:20250520T013723Z
LAST-MODIFIED:20250523T002901Z
UID:8382-1751932800-1752019199@tunbridgevt.org
SUMMARY:Tunbridge Speaks
DESCRIPTION:Tunbridge Speaks: Barns\, hosted by the Tunbridge Historical Society.
URL:https://tunbridgevt.org/event/tunbridge-speaks-20250708/
LOCATION:VT
END:VEVENT
BEGIN:VEVENT
DTSTART;TZID=America/New_York:20250708T123000
DTEND;TZID=America/New_York:20250708T143000
DTSTAMP:20260422T175403
CREATED:20250702T132850Z
LAST-MODIFIED:20250702T132850Z
UID:8533-1751977800-1751985000@tunbridgevt.org
SUMMARY:Fuel Loan Assistance Committee
DESCRIPTION:Fuel Loan Assistance Committee meeting. Follow this link to see the agenda.
URL:https://tunbridgevt.org/event/fuel-loan-assistance-committee-20250708/
LOCATION:Town Offices\, 271 Vermont Route 110\, Tunbridge\, VT\, 05077\, United States
END:VEVENT
BEGIN:VEVENT
DTSTART;TZID=America/New_York:20250708T180000
DTEND;TZID=America/New_York:20250708T200000
DTSTAMP:20260422T175403
CREATED:20250704T133625Z
LAST-MODIFIED:20250704T133625Z
UID:8549-1751997600-1752004800@tunbridgevt.org
SUMMARY:Selectboard meeting
DESCRIPTION:Selectboard meeting in person and via the Zoom app. Follow this link to see the agenda. \nClick here to join the Zoom Meeting.
URL:https://tunbridgevt.org/event/selectboard-meeting-20250708/
LOCATION:Town Offices\, 271 Vermont Route 110\, Tunbridge\, VT\, 05077\, United States
END:VEVENT
BEGIN:VEVENT
DTSTART;VALUE=DATE:20250710
DTEND;VALUE=DATE:20250714
DTSTAMP:20260422T175403
CREATED:20250520T013239Z
LAST-MODIFIED:20250520T013407Z
UID:8378-1752105600-1752451199@tunbridgevt.org
SUMMARY:Vermont Scenic Circuit Dog Show
DESCRIPTION:Vermont Scenic Circuit Dog Show – more information at woodstockdogclub.org
URL:https://tunbridgevt.org/event/vermont-scenic-circuit-dog-show-20250710-13/
LOCATION:Tunbridge Fairgrounds\, 1 Fairground Lane\, Tunbridge\, VT\, 05077\, United States
END:VEVENT
BEGIN:VEVENT
DTSTART;TZID=America/New_York:20250711T190000
DTEND;TZID=America/New_York:20250711T230000
DTSTAMP:20260422T175403
CREATED:20250520T013927Z
LAST-MODIFIED:20250520T014015Z
UID:8384-1752260400-1752274800@tunbridgevt.org
SUMMARY:Ed Larkin Contra Dancers
DESCRIPTION:Ed Larkin Contra Dancers with live music and refreshments at intermission.
URL:https://tunbridgevt.org/event/ed-larkin-contra-dancers-20250711/
LOCATION:Town Hall\, 277 Vermont Route 110\, Tunbridge\, VT\, 05077\, United States
END:VEVENT
BEGIN:VEVENT
DTSTART;TZID=America/New_York:20250712T070000
DTEND;TZID=America/New_York:20250712T140000
DTSTAMP:20260422T175403
CREATED:20250523T003116Z
LAST-MODIFIED:20250523T003116Z
UID:8430-1752303600-1752328800@tunbridgevt.org
SUMMARY:Community Yard Sale
DESCRIPTION:Community Yard Sale at the Parish House lawn and Tunbridge Town Hall. Vendor space available at 802-889-3750. Christmas and quality donations for The Tunbridge Church tables contact kjayvt@gmail.com.
URL:https://tunbridgevt.org/event/community-yard-sale-20250712/
LOCATION:Parish House\, 3 Potash Road\, Tunbridge\, VT\, 05077\, United States
END:VEVENT
BEGIN:VEVENT
DTSTART;TZID=America/New_York:20250717T180000
DTEND;TZID=America/New_York:20250717T200000
DTSTAMP:20260422T175403
CREATED:20250712T193901Z
LAST-MODIFIED:20250712T193901Z
UID:8576-1752775200-1752782400@tunbridgevt.org
SUMMARY:Trails Committee
DESCRIPTION:Trails Committee meeting. Follow this link to see the agenda.
URL:https://tunbridgevt.org/event/trails-committee-20250717/
LOCATION:Tunbridge Public Library\, 289 Vermont Route 110\, Tunbridge\, VT\, 05077\, United States
END:VEVENT
BEGIN:VEVENT
DTSTART;VALUE=DATE:20250718
DTEND;VALUE=DATE:20250721
DTSTAMP:20260422T175403
CREATED:20250520T014555Z
LAST-MODIFIED:20250520T014555Z
UID:8387-1752796800-1753055999@tunbridgevt.org
SUMMARY:Association of New England Ox Teamsters
DESCRIPTION:Association of New England Ox Teamsters Annual Show & Pull – follow this link for more information.
URL:https://tunbridgevt.org/event/association-of-new-england-ox-teamsters-20250718-20/
LOCATION:Tunbridge Fairgrounds\, 1 Fairground Lane\, Tunbridge\, VT\, 05077\, United States
END:VEVENT
BEGIN:VEVENT
DTSTART;TZID=America/New_York:20250718T090000
DTEND;TZID=America/New_York:20250718T230000
DTSTAMP:20260422T175403
CREATED:20250714T011847Z
LAST-MODIFIED:20250714T011847Z
UID:8579-1752829200-1752879600@tunbridgevt.org
SUMMARY:Trustee of Public Funds
DESCRIPTION:Trustee of Public Funds meeting.
URL:https://tunbridgevt.org/event/trustee-of-public-funds-20250718/
LOCATION:Town Offices\, 271 Vermont Route 110\, Tunbridge\, VT\, 05077\, United States
END:VEVENT
BEGIN:VEVENT
DTSTART;TZID=America/New_York:20250720T080000
DTEND;TZID=America/New_York:20250720T130000
DTSTAMP:20260422T175403
CREATED:20250520T014906Z
LAST-MODIFIED:20250520T014906Z
UID:8390-1752998400-1753016400@tunbridgevt.org
SUMMARY:Breakfast fundraiser
DESCRIPTION:Tunbridge Recreation Committee’s all-you-can-eat breakfast. It is a fundraiser for the Community Food Shelf\, which serves people from Tunbridge and the area.
URL:https://tunbridgevt.org/event/breakfast-fundraiser-20250720/
LOCATION:Town Hall\, 277 Vermont Route 110\, Tunbridge\, VT\, 05077\, United States
END:VEVENT
BEGIN:VEVENT
DTSTART;TZID=America/New_York:20250722T180000
DTEND;TZID=America/New_York:20250722T200000
DTSTAMP:20260422T175403
CREATED:20250719T030651Z
LAST-MODIFIED:20250719T030651Z
UID:8584-1753207200-1753214400@tunbridgevt.org
SUMMARY:Selectboard meeting
DESCRIPTION:Selectboard meeting in person and via the Zoom app. Follow this link to see the agenda. \nClick here to join the Zoom Meeting.
URL:https://tunbridgevt.org/event/selectboard-meeting-20250722/
LOCATION:Town Offices\, 271 Vermont Route 110\, Tunbridge\, VT\, 05077\, United States
END:VEVENT
BEGIN:VEVENT
DTSTART;VALUE=DATE:20250726
DTEND;VALUE=DATE:20250728
DTSTAMP:20260422T175403
CREATED:20250709T001443Z
LAST-MODIFIED:20250709T001443Z
UID:8556-1753488000-1753660799@tunbridgevt.org
SUMMARY:Regional 4-H Dairy Clinic and Show
DESCRIPTION:Annual Regional 4-H Dairy Clinic and Show. For details\, follow this link.
URL:https://tunbridgevt.org/event/regional-4-h-dairy-clinic-and-show-20250726-27/
LOCATION:Tunbridge Fairgrounds\, 1 Fairground Lane\, Tunbridge\, VT\, 05077\, United States
END:VEVENT
BEGIN:VEVENT
DTSTART;VALUE=DATE:20250727
DTEND;VALUE=DATE:20250728
DTSTAMP:20260422T175403
CREATED:20250520T015945Z
LAST-MODIFIED:20250520T020125Z
UID:8392-1753574400-1753660799@tunbridgevt.org
SUMMARY:Duck race fundraiser
DESCRIPTION:Friends of the Tunbridge World’s Fair annual duck race fundraiser.
URL:https://tunbridgevt.org/event/duck-race-fundraiser-20250727/
LOCATION:VT
END:VEVENT
BEGIN:VEVENT
DTSTART;TZID=America/New_York:20250802T080000
DTEND;TZID=America/New_York:20250802T130000
DTSTAMP:20260422T175403
CREATED:20250521T011219Z
LAST-MODIFIED:20250523T003259Z
UID:8400-1754121600-1754139600@tunbridgevt.org
SUMMARY:Cemetery Clean-up/Preservation Workshop
DESCRIPTION:Clean-up/preservation workshop with the Vermont Old Cemetery Association. Sponsored by the Tunbridge Historical Society. Follow this link for more information.
URL:https://tunbridgevt.org/event/cemetery-clean-up-preservation-workshop-20250802/
LOCATION:Hutchinson Cemetery\, 8 Howe Lane\, Tunbridge\, VT\, 05077\, United States
END:VEVENT
BEGIN:VEVENT
DTSTART;TZID=America/New_York:20250806T180000
DTEND;TZID=America/New_York:20250806T190000
DTSTAMP:20260422T175403
CREATED:20250806T010405Z
LAST-MODIFIED:20250806T010405Z
UID:8609-1754503200-1754506800@tunbridgevt.org
SUMMARY:Planning Commission
DESCRIPTION:Planning Commission meeting. Follow this link to see the agenda.
URL:https://tunbridgevt.org/event/planning-commission-20250806/
LOCATION:Town Offices\, 271 Vermont Route 110\, Tunbridge\, VT\, 05077\, United States
END:VEVENT
BEGIN:VEVENT
DTSTART;TZID=America/New_York:20250807T180000
DTEND;TZID=America/New_York:20250807T200000
DTSTAMP:20260422T175403
CREATED:20250801T014920Z
LAST-MODIFIED:20250801T014920Z
UID:8602-1754589600-1754596800@tunbridgevt.org
SUMMARY:Conservation Commission
DESCRIPTION:Conservation commission meeting. Follow this link to see the agenda.
URL:https://tunbridgevt.org/event/conservation-commission-20250807/
LOCATION:Tunbridge Public Library\, 289 Vermont Route 110\, Tunbridge\, VT\, 05077\, United States
END:VEVENT
BEGIN:VEVENT
DTSTART;TZID=America/New_York:20250808T190000
DTEND;TZID=America/New_York:20250808T220000
DTSTAMP:20260422T175403
CREATED:20250521T011554Z
LAST-MODIFIED:20250521T011554Z
UID:8402-1754679600-1754690400@tunbridgevt.org
SUMMARY:Ed Larkin Contra Dancers
DESCRIPTION:Ed Larkin Contra Dancers with live music and refreshments at intermission.
URL:https://tunbridgevt.org/event/ed-larkin-contra-dancers-20250808/
LOCATION:Town Hall\, 277 Vermont Route 110\, Tunbridge\, VT\, 05077\, United States
END:VEVENT
BEGIN:VEVENT
DTSTART;TZID=America/New_York:20250812T123000
DTEND;TZID=America/New_York:20250812T143000
DTSTAMP:20260422T175403
CREATED:20250809T030215Z
LAST-MODIFIED:20250809T030215Z
UID:8624-1755001800-1755009000@tunbridgevt.org
SUMMARY:Fuel Loan Assistance Committee
DESCRIPTION:Fuel Loan Assistance Committee meeting. Follow this link to see the agenda.
URL:https://tunbridgevt.org/event/fuel-loan-assistance-committee-20250812/
LOCATION:Town Offices\, 271 Vermont Route 110\, Tunbridge\, VT\, 05077\, United States
END:VEVENT
BEGIN:VEVENT
DTSTART;TZID=America/New_York:20250812T180000
DTEND;TZID=America/New_York:20250812T200000
DTSTAMP:20260422T175403
CREATED:20250809T022834Z
LAST-MODIFIED:20250809T022834Z
UID:8618-1755021600-1755028800@tunbridgevt.org
SUMMARY:Selectboard meeting
DESCRIPTION:Selectboard meeting in person and via the Zoom app. Follow this link to see the agenda. \nClick here to join the Zoom Meeting.
URL:https://tunbridgevt.org/event/selectboard-meeting-20250812/
LOCATION:Town Offices\, 271 Vermont Route 110\, Tunbridge\, VT\, 05077\, United States
END:VEVENT
END:VCALENDAR