BEGIN:VCALENDAR
VERSION:2.0
PRODID:-//Town of Tunbridge, Vermont - ECPv6.15.20//NONSGML v1.0//EN
CALSCALE:GREGORIAN
METHOD:PUBLISH
X-WR-CALNAME:Town of Tunbridge, Vermont
X-ORIGINAL-URL:https://tunbridgevt.org
X-WR-CALDESC:Events for Town of Tunbridge, Vermont
REFRESH-INTERVAL;VALUE=DURATION:PT1H
X-Robots-Tag:noindex
X-PUBLISHED-TTL:PT1H
BEGIN:VTIMEZONE
TZID:America/New_York
BEGIN:DAYLIGHT
TZOFFSETFROM:-0500
TZOFFSETTO:-0400
TZNAME:EDT
DTSTART:20240310T070000
END:DAYLIGHT
BEGIN:STANDARD
TZOFFSETFROM:-0400
TZOFFSETTO:-0500
TZNAME:EST
DTSTART:20241103T060000
END:STANDARD
BEGIN:DAYLIGHT
TZOFFSETFROM:-0500
TZOFFSETTO:-0400
TZNAME:EDT
DTSTART:20250309T070000
END:DAYLIGHT
BEGIN:STANDARD
TZOFFSETFROM:-0400
TZOFFSETTO:-0500
TZNAME:EST
DTSTART:20251102T060000
END:STANDARD
BEGIN:DAYLIGHT
TZOFFSETFROM:-0500
TZOFFSETTO:-0400
TZNAME:EDT
DTSTART:20260308T070000
END:DAYLIGHT
BEGIN:STANDARD
TZOFFSETFROM:-0400
TZOFFSETTO:-0500
TZNAME:EST
DTSTART:20261101T060000
END:STANDARD
END:VTIMEZONE
BEGIN:VEVENT
DTSTART;TZID=America/New_York:20250717T180000
DTEND;TZID=America/New_York:20250717T200000
DTSTAMP:20260422T175145
CREATED:20250712T193901Z
LAST-MODIFIED:20250712T193901Z
UID:8576-1752775200-1752782400@tunbridgevt.org
SUMMARY:Trails Committee
DESCRIPTION:Trails Committee meeting. Follow this link to see the agenda.
URL:https://tunbridgevt.org/event/trails-committee-20250717/
LOCATION:Tunbridge Public Library\, 289 Vermont Route 110\, Tunbridge\, VT\, 05077\, United States
END:VEVENT
BEGIN:VEVENT
DTSTART;VALUE=DATE:20250718
DTEND;VALUE=DATE:20250721
DTSTAMP:20260422T175145
CREATED:20250520T014555Z
LAST-MODIFIED:20250520T014555Z
UID:8387-1752796800-1753055999@tunbridgevt.org
SUMMARY:Association of New England Ox Teamsters
DESCRIPTION:Association of New England Ox Teamsters Annual Show & Pull – follow this link for more information.
URL:https://tunbridgevt.org/event/association-of-new-england-ox-teamsters-20250718-20/
LOCATION:Tunbridge Fairgrounds\, 1 Fairground Lane\, Tunbridge\, VT\, 05077\, United States
END:VEVENT
BEGIN:VEVENT
DTSTART;TZID=America/New_York:20250718T090000
DTEND;TZID=America/New_York:20250718T230000
DTSTAMP:20260422T175145
CREATED:20250714T011847Z
LAST-MODIFIED:20250714T011847Z
UID:8579-1752829200-1752879600@tunbridgevt.org
SUMMARY:Trustee of Public Funds
DESCRIPTION:Trustee of Public Funds meeting.
URL:https://tunbridgevt.org/event/trustee-of-public-funds-20250718/
LOCATION:Town Offices\, 271 Vermont Route 110\, Tunbridge\, VT\, 05077\, United States
END:VEVENT
BEGIN:VEVENT
DTSTART;TZID=America/New_York:20250720T080000
DTEND;TZID=America/New_York:20250720T130000
DTSTAMP:20260422T175145
CREATED:20250520T014906Z
LAST-MODIFIED:20250520T014906Z
UID:8390-1752998400-1753016400@tunbridgevt.org
SUMMARY:Breakfast fundraiser
DESCRIPTION:Tunbridge Recreation Committee’s all-you-can-eat breakfast. It is a fundraiser for the Community Food Shelf\, which serves people from Tunbridge and the area.
URL:https://tunbridgevt.org/event/breakfast-fundraiser-20250720/
LOCATION:Town Hall\, 277 Vermont Route 110\, Tunbridge\, VT\, 05077\, United States
END:VEVENT
BEGIN:VEVENT
DTSTART;TZID=America/New_York:20250722T180000
DTEND;TZID=America/New_York:20250722T200000
DTSTAMP:20260422T175145
CREATED:20250719T030651Z
LAST-MODIFIED:20250719T030651Z
UID:8584-1753207200-1753214400@tunbridgevt.org
SUMMARY:Selectboard meeting
DESCRIPTION:Selectboard meeting in person and via the Zoom app. Follow this link to see the agenda. \nClick here to join the Zoom Meeting.
URL:https://tunbridgevt.org/event/selectboard-meeting-20250722/
LOCATION:Town Offices\, 271 Vermont Route 110\, Tunbridge\, VT\, 05077\, United States
END:VEVENT
BEGIN:VEVENT
DTSTART;VALUE=DATE:20250726
DTEND;VALUE=DATE:20250728
DTSTAMP:20260422T175145
CREATED:20250709T001443Z
LAST-MODIFIED:20250709T001443Z
UID:8556-1753488000-1753660799@tunbridgevt.org
SUMMARY:Regional 4-H Dairy Clinic and Show
DESCRIPTION:Annual Regional 4-H Dairy Clinic and Show. For details\, follow this link.
URL:https://tunbridgevt.org/event/regional-4-h-dairy-clinic-and-show-20250726-27/
LOCATION:Tunbridge Fairgrounds\, 1 Fairground Lane\, Tunbridge\, VT\, 05077\, United States
END:VEVENT
BEGIN:VEVENT
DTSTART;VALUE=DATE:20250727
DTEND;VALUE=DATE:20250728
DTSTAMP:20260422T175145
CREATED:20250520T015945Z
LAST-MODIFIED:20250520T020125Z
UID:8392-1753574400-1753660799@tunbridgevt.org
SUMMARY:Duck race fundraiser
DESCRIPTION:Friends of the Tunbridge World’s Fair annual duck race fundraiser.
URL:https://tunbridgevt.org/event/duck-race-fundraiser-20250727/
LOCATION:VT
END:VEVENT
BEGIN:VEVENT
DTSTART;TZID=America/New_York:20250802T080000
DTEND;TZID=America/New_York:20250802T130000
DTSTAMP:20260422T175145
CREATED:20250521T011219Z
LAST-MODIFIED:20250523T003259Z
UID:8400-1754121600-1754139600@tunbridgevt.org
SUMMARY:Cemetery Clean-up/Preservation Workshop
DESCRIPTION:Clean-up/preservation workshop with the Vermont Old Cemetery Association. Sponsored by the Tunbridge Historical Society. Follow this link for more information.
URL:https://tunbridgevt.org/event/cemetery-clean-up-preservation-workshop-20250802/
LOCATION:Hutchinson Cemetery\, 8 Howe Lane\, Tunbridge\, VT\, 05077\, United States
END:VEVENT
BEGIN:VEVENT
DTSTART;TZID=America/New_York:20250806T180000
DTEND;TZID=America/New_York:20250806T190000
DTSTAMP:20260422T175145
CREATED:20250806T010405Z
LAST-MODIFIED:20250806T010405Z
UID:8609-1754503200-1754506800@tunbridgevt.org
SUMMARY:Planning Commission
DESCRIPTION:Planning Commission meeting. Follow this link to see the agenda.
URL:https://tunbridgevt.org/event/planning-commission-20250806/
LOCATION:Town Offices\, 271 Vermont Route 110\, Tunbridge\, VT\, 05077\, United States
END:VEVENT
BEGIN:VEVENT
DTSTART;TZID=America/New_York:20250807T180000
DTEND;TZID=America/New_York:20250807T200000
DTSTAMP:20260422T175145
CREATED:20250801T014920Z
LAST-MODIFIED:20250801T014920Z
UID:8602-1754589600-1754596800@tunbridgevt.org
SUMMARY:Conservation Commission
DESCRIPTION:Conservation commission meeting. Follow this link to see the agenda.
URL:https://tunbridgevt.org/event/conservation-commission-20250807/
LOCATION:Tunbridge Public Library\, 289 Vermont Route 110\, Tunbridge\, VT\, 05077\, United States
END:VEVENT
BEGIN:VEVENT
DTSTART;TZID=America/New_York:20250808T190000
DTEND;TZID=America/New_York:20250808T220000
DTSTAMP:20260422T175145
CREATED:20250521T011554Z
LAST-MODIFIED:20250521T011554Z
UID:8402-1754679600-1754690400@tunbridgevt.org
SUMMARY:Ed Larkin Contra Dancers
DESCRIPTION:Ed Larkin Contra Dancers with live music and refreshments at intermission.
URL:https://tunbridgevt.org/event/ed-larkin-contra-dancers-20250808/
LOCATION:Town Hall\, 277 Vermont Route 110\, Tunbridge\, VT\, 05077\, United States
END:VEVENT
BEGIN:VEVENT
DTSTART;TZID=America/New_York:20250812T123000
DTEND;TZID=America/New_York:20250812T143000
DTSTAMP:20260422T175145
CREATED:20250809T030215Z
LAST-MODIFIED:20250809T030215Z
UID:8624-1755001800-1755009000@tunbridgevt.org
SUMMARY:Fuel Loan Assistance Committee
DESCRIPTION:Fuel Loan Assistance Committee meeting. Follow this link to see the agenda.
URL:https://tunbridgevt.org/event/fuel-loan-assistance-committee-20250812/
LOCATION:Town Offices\, 271 Vermont Route 110\, Tunbridge\, VT\, 05077\, United States
END:VEVENT
BEGIN:VEVENT
DTSTART;TZID=America/New_York:20250812T180000
DTEND;TZID=America/New_York:20250812T200000
DTSTAMP:20260422T175145
CREATED:20250809T022834Z
LAST-MODIFIED:20250809T022834Z
UID:8618-1755021600-1755028800@tunbridgevt.org
SUMMARY:Selectboard meeting
DESCRIPTION:Selectboard meeting in person and via the Zoom app. Follow this link to see the agenda. \nClick here to join the Zoom Meeting.
URL:https://tunbridgevt.org/event/selectboard-meeting-20250812/
LOCATION:Town Offices\, 271 Vermont Route 110\, Tunbridge\, VT\, 05077\, United States
END:VEVENT
BEGIN:VEVENT
DTSTART;VALUE=DATE:20250817
DTEND;VALUE=DATE:20250818
DTSTAMP:20260422T175145
CREATED:20250523T003456Z
LAST-MODIFIED:20250709T002143Z
UID:8432-1755388800-1755475199@tunbridgevt.org
SUMMARY:Tunbridge Historical Society annual meeting
DESCRIPTION:Tunbridge Historical Society’s annual meeting. Potluck dinner and special lecture “Interpreting Historical Interpreting” by Isreal Provoncha\, Hartford High history teacher\, a living\nhistory musket man and who also played a soldier in Jay Craven’s film Lost Nation. Rain or Shine.
URL:https://tunbridgevt.org/event/tunbridge-historical-society-annual-meeting-20250817/
LOCATION:North Tunbridge Baptist Church\, 495 Vermont Route 110\, Tunbridge\, VT\, 05077\, United States
END:VEVENT
BEGIN:VEVENT
DTSTART;TZID=America/New_York:20250817T080000
DTEND;TZID=America/New_York:20250817T130000
DTSTAMP:20260422T175145
CREATED:20250521T011805Z
LAST-MODIFIED:20250521T011805Z
UID:8404-1755417600-1755435600@tunbridgevt.org
SUMMARY:Breakfast fundraiser
DESCRIPTION:Tunbridge Recreation Committee’s all-you-can-eat breakfast. It is a fundraiser for the Community Food Shelf\, which serves people from Tunbridge and the area.
URL:https://tunbridgevt.org/event/breakfast-fundraiser-20250817/
LOCATION:VT
END:VEVENT
BEGIN:VEVENT
DTSTART;TZID=America/New_York:20250826T180000
DTEND;TZID=America/New_York:20250826T200000
DTSTAMP:20260422T175145
CREATED:20250823T013655Z
LAST-MODIFIED:20250823T013655Z
UID:8653-1756231200-1756238400@tunbridgevt.org
SUMMARY:Selectboard meeting
DESCRIPTION:Selectboard meeting in person and via the Zoom app. Follow this link to see the agenda. \nClick here to join the Zoom Meeting.
URL:https://tunbridgevt.org/event/selectboard-meeting-20250826/
LOCATION:Town Offices\, 271 Vermont Route 110\, Tunbridge\, VT\, 05077\, United States
END:VEVENT
BEGIN:VEVENT
DTSTART;TZID=America/New_York:20250827T120000
DTEND;TZID=America/New_York:20250827T130000
DTSTAMP:20260422T175145
CREATED:20250709T002350Z
LAST-MODIFIED:20250709T002350Z
UID:8560-1756296000-1756299600@tunbridgevt.org
SUMMARY:Super Senior Luncheon
DESCRIPTION:Super Senior Luncheon for residents in their 80s and 90s\, hosted by The Tunbridge Church’s Outreach Committee.
URL:https://tunbridgevt.org/event/super-senior-luncheon-20250827/
LOCATION:Town Hall\, 277 Vermont Route 110\, Tunbridge\, VT\, 05077\, United States
END:VEVENT
BEGIN:VEVENT
DTSTART;TZID=America/New_York:20250903T180000
DTEND;TZID=America/New_York:20250903T200000
DTSTAMP:20260422T175145
CREATED:20250902T112804Z
LAST-MODIFIED:20250902T112804Z
UID:8693-1756922400-1756929600@tunbridgevt.org
SUMMARY:Planning Commission
DESCRIPTION:Planning Commission meeting. Follow this link to see the agenda.
URL:https://tunbridgevt.org/event/planning-commission-20250903/
LOCATION:Town Offices\, 271 Vermont Route 110\, Tunbridge\, VT\, 05077\, United States
END:VEVENT
BEGIN:VEVENT
DTSTART;TZID=America/New_York:20250904T180000
DTEND;TZID=America/New_York:20250904T200000
DTSTAMP:20260422T175145
CREATED:20250901T115026Z
LAST-MODIFIED:20250901T115026Z
UID:8679-1757008800-1757016000@tunbridgevt.org
SUMMARY:Conservation Commission
DESCRIPTION:Conservation commission meeting. Follow this link to see the agenda.
URL:https://tunbridgevt.org/event/conservation-commission-20250904/
LOCATION:Tunbridge Public Library\, 289 Vermont Route 110\, Tunbridge\, VT\, 05077\, United States
END:VEVENT
BEGIN:VEVENT
DTSTART;TZID=America/New_York:20250906T110000
DTEND;TZID=America/New_York:20250906T130000
DTSTAMP:20260422T175145
CREATED:20250901T115505Z
LAST-MODIFIED:20250901T115505Z
UID:8681-1757156400-1757163600@tunbridgevt.org
SUMMARY:Invasive Plant Walk & Talk
DESCRIPTION:The Conservation Commission is hosting an Invasive Plants Walk & Talk. Follow this link to learn more.
URL:https://tunbridgevt.org/event/invasive-plant-walk-talk-20260906/
LOCATION:Tunbridge Central School\, 523 Vermont Route 110\, Tunbridge\, 05077\, United States
END:VEVENT
BEGIN:VEVENT
DTSTART;TZID=America/New_York:20250909T123000
DTEND;TZID=America/New_York:20250909T143000
DTSTAMP:20260422T175145
CREATED:20250908T003548Z
LAST-MODIFIED:20250908T003548Z
UID:8710-1757421000-1757428200@tunbridgevt.org
SUMMARY:Fuel Loan Assistance Committee
DESCRIPTION:Fuel Loan Assistance Committee meeting. Follow this link to see the agenda.
URL:https://tunbridgevt.org/event/fuel-loan-assistance-committee-20250909/
LOCATION:Town Offices\, 271 Vermont Route 110\, Tunbridge\, VT\, 05077\, United States
END:VEVENT
BEGIN:VEVENT
DTSTART;TZID=America/New_York:20250909T180000
DTEND;TZID=America/New_York:20250909T200000
DTSTAMP:20260422T175145
CREATED:20250908T003331Z
LAST-MODIFIED:20250908T192446Z
UID:8708-1757440800-1757448000@tunbridgevt.org
SUMMARY:Selectboard meeting
DESCRIPTION:Selectboard meeting in person and via the Zoom app. Follow this link to see the agenda. \nClick here to join the Zoom Meeting. \nThe Tunbridge Selectboard will be entering an emergency executive session during the normally scheduled Selectboard meeting Tuesday\, 9/9/2025. This will take place after the Grants Manager Update.
URL:https://tunbridgevt.org/event/selectboard-meeting-20250909/
LOCATION:Town Offices\, 271 Vermont Route 110\, Tunbridge\, VT\, 05077\, United States
END:VEVENT
BEGIN:VEVENT
DTSTART;VALUE=DATE:20250911
DTEND;VALUE=DATE:20250915
DTSTAMP:20260422T175145
CREATED:20250521T012350Z
LAST-MODIFIED:20250521T014502Z
UID:8406-1757548800-1757894399@tunbridgevt.org
SUMMARY:Tunbridge World's Fair
DESCRIPTION:The 153rd annual Tunbridge World’s Fair. Follow this link for a list of events.
URL:https://tunbridgevt.org/event/tunbridge-worlds-fair-2025/
LOCATION:Tunbridge Fairgrounds\, 1 Fairground Lane\, Tunbridge\, VT\, 05077\, United States
END:VEVENT
BEGIN:VEVENT
DTSTART;TZID=America/New_York:20250912T190000
DTEND;TZID=America/New_York:20250912T220000
DTSTAMP:20260422T175145
CREATED:20250521T012853Z
LAST-MODIFIED:20250521T012853Z
UID:8410-1757703600-1757714400@tunbridgevt.org
SUMMARY:Ed Larkin Contra Dancers
DESCRIPTION:Ed Larkin Contra Dancers with live music and refreshments at intermission.
URL:https://tunbridgevt.org/event/ed-larkin-contra-dancers-20250912/
LOCATION:Town Hall\, 277 Vermont Route 110\, Tunbridge\, VT\, 05077\, United States
END:VEVENT
BEGIN:VEVENT
DTSTART;TZID=America/New_York:20250923T180000
DTEND;TZID=America/New_York:20250923T200000
DTSTAMP:20260422T175145
CREATED:20250921T151258Z
LAST-MODIFIED:20250921T151258Z
UID:8734-1758650400-1758657600@tunbridgevt.org
SUMMARY:Selectboard meeting
DESCRIPTION:Selectboard meeting in person and via the Zoom app. Follow this link to see the agenda. \nClick here to join the Zoom Meeting.
URL:https://tunbridgevt.org/event/selectboard-meeting-20250923/
LOCATION:Town Offices\, 271 Vermont Route 110\, Tunbridge\, VT\, 05077\, United States
END:VEVENT
BEGIN:VEVENT
DTSTART;TZID=America/New_York:20250927T103000
DTEND;TZID=America/New_York:20250927T140000
DTSTAMP:20260422T175145
CREATED:20250901T120108Z
LAST-MODIFIED:20250902T112927Z
UID:8683-1758969000-1758981600@tunbridgevt.org
SUMMARY:Wicopy Woods Open House
DESCRIPTION:The Conservation Commission is hosting an open house at Wicopy Woods\, the town forest. Follow this link to learn more.
URL:https://tunbridgevt.org/event/wicopy-woods-open-house-20250927/
LOCATION:Town Garage\, Recreation Road\, Tunbridge\, VT\, 05077\, United States
END:VEVENT
BEGIN:VEVENT
DTSTART;TZID=America/New_York:20250930T123000
DTEND;TZID=America/New_York:20250930T143000
DTSTAMP:20260422T175145
CREATED:20250926T014010Z
LAST-MODIFIED:20250926T014010Z
UID:8754-1759235400-1759242600@tunbridgevt.org
SUMMARY:Fuel Loan Assistance Committee
DESCRIPTION:Fuel Loan Assistance Committee meeting. Follow this link to see the agenda.
URL:https://tunbridgevt.org/event/fuel-loan-assistance-committee-20250930/
LOCATION:Town Offices\, 271 Vermont Route 110\, Tunbridge\, VT\, 05077\, United States
END:VEVENT
BEGIN:VEVENT
DTSTART;TZID=America/New_York:20251001T180000
DTEND;TZID=America/New_York:20251001T200000
DTSTAMP:20260422T175145
CREATED:20250930T010241Z
LAST-MODIFIED:20250930T010241Z
UID:8759-1759341600-1759348800@tunbridgevt.org
SUMMARY:Planning Commission
DESCRIPTION:Planning Commission meeting. Follow this link to see the agenda.
URL:https://tunbridgevt.org/event/planning-commission-20251001/
LOCATION:Town Offices\, 271 Vermont Route 110\, Tunbridge\, VT\, 05077\, United States
END:VEVENT
BEGIN:VEVENT
DTSTART;TZID=America/New_York:20251002T180000
DTEND;TZID=America/New_York:20251002T200000
DTSTAMP:20260422T175145
CREATED:20250925T011540Z
LAST-MODIFIED:20250925T011540Z
UID:8749-1759428000-1759435200@tunbridgevt.org
SUMMARY:Conservation Commission
DESCRIPTION:Conservation Commission meeting. Follow this link to see the agenda.
URL:https://tunbridgevt.org/event/conservation-commission-20251002/
LOCATION:Tunbridge Public Library\, 289 Vermont Route 110\, Tunbridge\, VT\, 05077\, United States
END:VEVENT
BEGIN:VEVENT
DTSTART;TZID=America/New_York:20251004T100000
DTEND;TZID=America/New_York:20251004T130000
DTSTAMP:20260422T175145
CREATED:20250912T003250Z
LAST-MODIFIED:20250912T003833Z
UID:8718-1759572000-1759582800@tunbridgevt.org
SUMMARY:River Cleanup
DESCRIPTION:Annual First Branch River Cleanup with the Tunbridge Conservation Commission and the White River\nPartnership. Volunteers are needed to help remove trash and debris from the river between Belknap Brook and Russell Roads. \nMeeting & Parking Location – South Tunbridge Church \nVolunteers should wear sturdy footwear (waterproof would be ideal) and bring work gloves and a shovel\, if possible.
URL:https://tunbridgevt.org/event/river-cleanup-20251004/
LOCATION:South Tunbridge Methodist Church\, 41 Vermont Route 110\, Tunbridge\, VT\, 05077\, United States
END:VEVENT
END:VCALENDAR