BEGIN:VCALENDAR
VERSION:2.0
PRODID:-//Town of Tunbridge, Vermont - ECPv6.15.20//NONSGML v1.0//EN
CALSCALE:GREGORIAN
METHOD:PUBLISH
X-WR-CALNAME:Town of Tunbridge, Vermont
X-ORIGINAL-URL:https://tunbridgevt.org
X-WR-CALDESC:Events for Town of Tunbridge, Vermont
REFRESH-INTERVAL;VALUE=DURATION:PT1H
X-Robots-Tag:noindex
X-PUBLISHED-TTL:PT1H
BEGIN:VTIMEZONE
TZID:America/New_York
BEGIN:DAYLIGHT
TZOFFSETFROM:-0500
TZOFFSETTO:-0400
TZNAME:EDT
DTSTART:20240310T070000
END:DAYLIGHT
BEGIN:STANDARD
TZOFFSETFROM:-0400
TZOFFSETTO:-0500
TZNAME:EST
DTSTART:20241103T060000
END:STANDARD
BEGIN:DAYLIGHT
TZOFFSETFROM:-0500
TZOFFSETTO:-0400
TZNAME:EDT
DTSTART:20250309T070000
END:DAYLIGHT
BEGIN:STANDARD
TZOFFSETFROM:-0400
TZOFFSETTO:-0500
TZNAME:EST
DTSTART:20251102T060000
END:STANDARD
BEGIN:DAYLIGHT
TZOFFSETFROM:-0500
TZOFFSETTO:-0400
TZNAME:EDT
DTSTART:20260308T070000
END:DAYLIGHT
BEGIN:STANDARD
TZOFFSETFROM:-0400
TZOFFSETTO:-0500
TZNAME:EST
DTSTART:20261101T060000
END:STANDARD
END:VTIMEZONE
BEGIN:VEVENT
DTSTART;TZID=America/New_York:20250422T180000
DTEND;TZID=America/New_York:20250422T200000
DTSTAMP:20260422T175253
CREATED:20250419T023215Z
LAST-MODIFIED:20250419T023215Z
UID:8271-1745344800-1745352000@tunbridgevt.org
SUMMARY:Selectboard meeting
DESCRIPTION:Selectboard meeting in person and via the Zoom app. Follow this link to see the agenda. \nClick here to join the Zoom Meeting.
URL:https://tunbridgevt.org/event/selectboard-meeting-20250422/
LOCATION:Town Offices\, 271 Vermont Route 110\, Tunbridge\, VT\, 05077\, United States
END:VEVENT
BEGIN:VEVENT
DTSTART;TZID=America/New_York:20250417T180000
DTEND;TZID=America/New_York:20250417T200000
DTSTAMP:20260422T175253
CREATED:20250413T222732Z
LAST-MODIFIED:20250413T222921Z
UID:8260-1744912800-1744920000@tunbridgevt.org
SUMMARY:Trails Committee
DESCRIPTION:Trails Committee meeting. Follow this link to see the agenda.
URL:https://tunbridgevt.org/event/trails-committee-20250417/
LOCATION:Tunbridge Public Library\, 289 Vermont Route 110\, Tunbridge\, VT\, 05077\, United States
END:VEVENT
BEGIN:VEVENT
DTSTART;TZID=America/New_York:20250411T100000
DTEND;TZID=America/New_York:20250411T110000
DTSTAMP:20260422T175253
CREATED:20250409T013322Z
LAST-MODIFIED:20250409T013322Z
UID:8239-1744365600-1744369200@tunbridgevt.org
SUMMARY:Trustee of Public Funds
DESCRIPTION:Trustee of Public Funds meeting.
URL:https://tunbridgevt.org/event/trustee-of-public-funds-20250411/
LOCATION:Town Offices\, 271 Vermont Route 110\, Tunbridge\, VT\, 05077\, United States
END:VEVENT
BEGIN:VEVENT
DTSTART;TZID=America/New_York:20250408T180000
DTEND;TZID=America/New_York:20250408T200000
DTSTAMP:20260422T175253
CREATED:20250406T013550Z
LAST-MODIFIED:20250406T013550Z
UID:8226-1744135200-1744142400@tunbridgevt.org
SUMMARY:Selectboard meeting
DESCRIPTION:Selectboard meeting in person and via the Zoom app. Follow this link to see the agenda. \nClick here to join the Zoom Meeting.
URL:https://tunbridgevt.org/event/selectboard-meeting-20250408/
LOCATION:Town Offices\, 271 Vermont Route 110\, Tunbridge\, VT\, 05077\, United States
END:VEVENT
BEGIN:VEVENT
DTSTART;TZID=America/New_York:20250408T123000
DTEND;TZID=America/New_York:20250408T143000
DTSTAMP:20260422T175253
CREATED:20250404T010940Z
LAST-MODIFIED:20250404T010940Z
UID:8210-1744115400-1744122600@tunbridgevt.org
SUMMARY:Fuel Loan Assistance Committee
DESCRIPTION:Fuel Loan Assistance Committee meeting. Follow this link to see the agenda.
URL:https://tunbridgevt.org/event/fuel-loan-assistance-committee/
LOCATION:Town Offices\, 271 Vermont Route 110\, Tunbridge\, VT\, 05077\, United States
END:VEVENT
BEGIN:VEVENT
DTSTART;TZID=America/New_York:20250403T190000
DTEND;TZID=America/New_York:20250403T210000
DTSTAMP:20260422T175253
CREATED:20250403T000106Z
LAST-MODIFIED:20250403T000106Z
UID:8203-1743706800-1743714000@tunbridgevt.org
SUMMARY:Selectboard meeting
DESCRIPTION:Selectboard meeting in person and via the Zoom app. Follow this link to see the agenda. \nClick here to join the Zoom Meeting.
URL:https://tunbridgevt.org/event/selectboard-meeting-20250403/
LOCATION:Town Offices\, 271 Vermont Route 110\, Tunbridge\, VT\, 05077\, United States
END:VEVENT
BEGIN:VEVENT
DTSTART;TZID=America/New_York:20250403T180000
DTEND;TZID=America/New_York:20250403T200000
DTSTAMP:20260422T175253
CREATED:20250329T015827Z
LAST-MODIFIED:20250401T003329Z
UID:8182-1743703200-1743710400@tunbridgevt.org
SUMMARY:Conservation commission
DESCRIPTION:Conservation commission meeting. Follow this link to see the agenda.
URL:https://tunbridgevt.org/event/conservation-commission-20250403/
LOCATION:Tunbridge Public Library\, 289 Vermont Route 110\, Tunbridge\, VT\, 05077\, United States
END:VEVENT
BEGIN:VEVENT
DTSTART;TZID=America/New_York:20250325T180000
DTEND;TZID=America/New_York:20250325T200000
DTSTAMP:20260422T175253
CREATED:20250322T024214Z
LAST-MODIFIED:20250322T024214Z
UID:8158-1742925600-1742932800@tunbridgevt.org
SUMMARY:Selectboard meeting
DESCRIPTION:Selectboard meeting in person and via the Zoom app. Follow this link to see the agenda. \nClick here to join the Zoom Meeting.
URL:https://tunbridgevt.org/event/selectboard-meeting-20250325/
LOCATION:Town Offices\, 271 Vermont Route 110\, Tunbridge\, VT\, 05077\, United States
END:VEVENT
BEGIN:VEVENT
DTSTART;TZID=America/New_York:20250316T140000
DTEND;TZID=America/New_York:20250316T160000
DTSTAMP:20260422T175253
CREATED:20241221T130023Z
LAST-MODIFIED:20241221T130054Z
UID:7979-1742133600-1742140800@tunbridgevt.org
SUMMARY:Sunday Series
DESCRIPTION:Preserving Vermont’s Cemeteries. Vermont Old Cemetery Association President Tom Giffin started exploring cemeteries as a child and helps engage community groups to care for the state’s almost 2\,000 cemeteries. \nThe Sunday Series at the Tunbridge Public Library is a free speaker series featuring two programs a month at 2 p.m.
URL:https://tunbridgevt.org/event/sunday-series-20250316/
LOCATION:Tunbridge Public Library\, 289 Vermont Route 110\, Tunbridge\, VT\, 05077\, United States
END:VEVENT
BEGIN:VEVENT
DTSTART;TZID=America/New_York:20250313T180000
DTEND;TZID=America/New_York:20250313T200000
DTSTAMP:20260422T175253
CREATED:20250308T005016Z
LAST-MODIFIED:20250413T222625Z
UID:8133-1741888800-1741896000@tunbridgevt.org
SUMMARY:Trails Committee
DESCRIPTION:Trails Committee meeting. Follow this link to see the agenda.
URL:https://tunbridgevt.org/event/trails-committee-20250313/
LOCATION:Tunbridge Public Library\, 289 Vermont Route 110\, Tunbridge\, VT\, 05077\, United States
END:VEVENT
BEGIN:VEVENT
DTSTART;TZID=America/New_York:20250312T180000
DTEND;TZID=America/New_York:20250312T190000
DTSTAMP:20260422T175253
CREATED:20250212T034954Z
LAST-MODIFIED:20250310T021500Z
UID:8075-1741802400-1741806000@tunbridgevt.org
SUMMARY:Planning commission
DESCRIPTION:Planning commission meeting. Follow this link to see the agenda.
URL:https://tunbridgevt.org/event/planning-commission-20250312/
LOCATION:Town Offices\, 271 Vermont Route 110\, Tunbridge\, VT\, 05077\, United States
END:VEVENT
BEGIN:VEVENT
DTSTART;TZID=America/New_York:20250311T180000
DTEND;TZID=America/New_York:20250311T200000
DTSTAMP:20260422T175253
CREATED:20250310T021737Z
LAST-MODIFIED:20250310T021737Z
UID:8141-1741716000-1741723200@tunbridgevt.org
SUMMARY:Selectboard meeting
DESCRIPTION:Selectboard meeting in person and via the Zoom app. Follow this link to see the agenda. \nClick here to join the Zoom Meeting.
URL:https://tunbridgevt.org/event/selectboard-meeting-20250311/
LOCATION:Town Offices\, 271 Vermont Route 110\, Tunbridge\, VT\, 05077\, United States
END:VEVENT
BEGIN:VEVENT
DTSTART;TZID=America/New_York:20250307T190000
DTEND;TZID=America/New_York:20250307T210000
DTSTAMP:20260422T175253
CREATED:20241220T024530Z
LAST-MODIFIED:20250206T041749Z
UID:7966-1741374000-1741381200@tunbridgevt.org
SUMMARY:Winter Evenings
DESCRIPTION:The Tunbridge Conservation Commission is excited to welcome three local experts to share their wisdom about various aspects of our local landscapes during the Winter Evenings series on three Fridays over the coming months. Each presentation begins at 7pm at the Tunbridge Public Library. All are welcome\, refreshments are provided\, and the events are free – donations graciously accepted! \n“Understanding bats through their ecology” \nAdam Kozlowski is a Data Manager and Biologist for the Inventory and Monitoring Program at the National Park Service. Adam will introduce us to the bat inhabitants of Vermont and New Hampshire\, and share information about the fascinating ecology of bats with an emphasis on how they deal with winter. He will also share the important role they play in our natural and urbanized landscapes. During his presentation\, Adam will walk through the basics of bat biology\, physiology\, evolution\, and behavior to help us better understand the threats bats are facing\, how bat populations are changing in response to these threats\, and what can be done to protect these valuable residents co-inhabiting the land with us. \nAdam Kozlowski grew up in the Finger Lakes region of central New York and earned a B.S. in Ecology and Systematics at Cornell University and an M.S. in Wildlife Sciences from Utah State University.  Adam’s professional career has spanned a variety of topics and geographies:  brown tree snake research in Guam\, biological control of weeds research in Switzerland\, wolf and deer interactions in northern Minnesota\, bat monitoring in Nicaragua\, and coastal bird inventories in western Mexico.  Adam’s first 9 career years were spent working as a threatened and endangered species biologist for Utah’s Division of Wildlife Resources and now the last 17 years as a biologist with the Nation Park Service’s Inventory and Monitoring Program.  In his free time Adam enjoys alternatively dismantling and then rebuilding his old house and caretaking the even older cemeteries in the small Vermont town he lives in. \nFor more information\, contact Tunbridge Public Library at 802-889-9404 or email tunbridgeconservation@gmail.com
URL:https://tunbridgevt.org/event/winter-evenings-20250307/
LOCATION:Tunbridge Public Library\, 289 Vermont Route 110\, Tunbridge\, VT\, 05077\, United States
END:VEVENT
BEGIN:VEVENT
DTSTART;TZID=America/New_York:20250306T180000
DTEND;TZID=America/New_York:20250306T200000
DTSTAMP:20260422T175253
CREATED:20250301T043106Z
LAST-MODIFIED:20250301T043106Z
UID:8121-1741284000-1741291200@tunbridgevt.org
SUMMARY:Conservation commission
DESCRIPTION:Conservation commission meeting. Follow this link to see the agenda.
URL:https://tunbridgevt.org/event/conservation-commission-20250306/
LOCATION:Tunbridge Public Library\, 289 Vermont Route 110\, Tunbridge\, VT\, 05077\, United States
END:VEVENT
BEGIN:VEVENT
DTSTART;TZID=America/New_York:20250304T100000
DTEND;TZID=America/New_York:20250304T140000
DTSTAMP:20260422T175253
CREATED:20250203T174547Z
LAST-MODIFIED:20250223T150535Z
UID:8042-1741082400-1741096800@tunbridgevt.org
SUMMARY:Town Meeting
DESCRIPTION:Town Meeting. Follow this link to read or download the Warning. Click here to read or download the Town Report.
URL:https://tunbridgevt.org/event/town-meeting-20250304/
LOCATION:Tunbridge Central School\, 523 Vermont Route 110\, Tunbridge\, 05077\, United States
END:VEVENT
BEGIN:VEVENT
DTSTART;TZID=America/New_York:20250303T190000
DTEND;TZID=America/New_York:20250303T210000
DTSTAMP:20260422T175253
CREATED:20250220T001127Z
LAST-MODIFIED:20250220T001322Z
UID:8097-1741028400-1741035600@tunbridgevt.org
SUMMARY:School Meeting
DESCRIPTION:First Branch Unified School District annual meeting and balloting. Follow this link to see the Warning. Click here to read or download the annual report.
URL:https://tunbridgevt.org/event/school-meeting-20250303/
LOCATION:Chelsea Public School\, 6 School Street\, Chelsea\, VT\, 05038\, United States
END:VEVENT
BEGIN:VEVENT
DTSTART;TZID=America/New_York:20250302T140000
DTEND;TZID=America/New_York:20250302T160000
DTSTAMP:20260422T175253
CREATED:20241221T125844Z
LAST-MODIFIED:20241221T125844Z
UID:7977-1740924000-1740931200@tunbridgevt.org
SUMMARY:Sunday Series
DESCRIPTION:Sustainable Forestry. Tunbridge resident Kate Forrer is executive director of Vermont Woodlands Association which educates and advocates for the practices of productive stewardship\, use and enjoyment of woodlands. \nThe Sunday Series at the Tunbridge Public Library is a free speaker series featuring two programs a month at 2 p.m.
URL:https://tunbridgevt.org/event/sunday-series-20240302/
LOCATION:Tunbridge Public Library\, 289 Vermont Route 110\, Tunbridge\, VT\, 05077\, United States
END:VEVENT
BEGIN:VEVENT
DTSTART;TZID=America/New_York:20250225T180000
DTEND;TZID=America/New_York:20250225T200000
DTSTAMP:20260422T175253
CREATED:20250222T032626Z
LAST-MODIFIED:20250222T032626Z
UID:8108-1740506400-1740513600@tunbridgevt.org
SUMMARY:Selectboard meeting
DESCRIPTION:Selectboard meeting in person and via the Zoom app. Follow this link to see the agenda. \nClick here to join the Zoom Meeting.
URL:https://tunbridgevt.org/event/selectboard-meeting-20250225/
LOCATION:Town Offices\, 271 Vermont Route 110\, Tunbridge\, VT\, 05077\, United States
END:VEVENT
BEGIN:VEVENT
DTSTART;TZID=America/New_York:20250223T140000
DTEND;TZID=America/New_York:20250223T160000
DTSTAMP:20260422T175253
CREATED:20241221T125635Z
LAST-MODIFIED:20241221T125635Z
UID:7975-1740319200-1740326400@tunbridgevt.org
SUMMARY:Sunday Series
DESCRIPTION:Where Do We Go From Here? Shirley A. Jefferson\, Vermont Law and Graduate School’s vice president of community engagement and government relations and its first vice president of color\, is a nationally sought after speaker and adviser on matters relating to race and the law and equitable access to legal education. \nThe Sunday Series at the Tunbridge Public Library is a free speaker series featuring two programs a month at 2 p.m.
URL:https://tunbridgevt.org/event/sunday-series-20250223/
LOCATION:Tunbridge Public Library\, 289 Vermont Route 110\, Tunbridge\, VT\, 05077\, United States
END:VEVENT
BEGIN:VEVENT
DTSTART;TZID=America/New_York:20250213T180000
DTEND;TZID=America/New_York:20250213T200000
DTSTAMP:20260422T175253
CREATED:20250208T130548Z
LAST-MODIFIED:20250213T184513Z
UID:8073-1739469600-1739476800@tunbridgevt.org
SUMMARY:Trails Committee
DESCRIPTION:**REMOTE ONLY** \nTrails Committee meeting. Follow this link to see the agenda. \nClick here to join the Zoom Meeting.
URL:https://tunbridgevt.org/event/trails-committee-20250213/
LOCATION:Tunbridge Public Library\, 289 Vermont Route 110\, Tunbridge\, VT\, 05077\, United States
END:VEVENT
BEGIN:VEVENT
DTSTART;TZID=America/New_York:20250211T180000
DTEND;TZID=America/New_York:20250211T200000
DTSTAMP:20260422T175253
CREATED:20250208T125606Z
LAST-MODIFIED:20250208T125606Z
UID:8068-1739296800-1739304000@tunbridgevt.org
SUMMARY:Selectboard meeting
DESCRIPTION:Selectboard meeting in person and via the Zoom app. Follow this link to see the agenda. \nClick here to join the Zoom Meeting.
URL:https://tunbridgevt.org/event/selectboard-meeting-20250211/
LOCATION:Town Offices\, 271 Vermont Route 110\, Tunbridge\, VT\, 05077\, United States
END:VEVENT
BEGIN:VEVENT
DTSTART;TZID=America/New_York:20250208T090000
DTEND;TZID=America/New_York:20250208T120000
DTSTAMP:20260422T175253
CREATED:20250118T234946Z
LAST-MODIFIED:20250118T235025Z
UID:8015-1739005200-1739016000@tunbridgevt.org
SUMMARY:Volunteer Fair
DESCRIPTION:The Planning Commission and Selectboard invite you to come meet friends and neighbors to learn about opportunities to join committees\, organizations and clubs.  \nContact Janet Wells with questions.
URL:https://tunbridgevt.org/event/volunteer-fair-20250208/
LOCATION:Town Hall\, 277 Vermont Route 110\, Tunbridge\, VT\, 05077\, United States
END:VEVENT
BEGIN:VEVENT
DTSTART;TZID=America/New_York:20250207T190000
DTEND;TZID=America/New_York:20250207T210000
DTSTAMP:20260422T175253
CREATED:20241220T024218Z
LAST-MODIFIED:20250206T041648Z
UID:7963-1738954800-1738962000@tunbridgevt.org
SUMMARY:Winter Evenings
DESCRIPTION:The Tunbridge Conservation Commission is excited to welcome three local experts to share their wisdom about various aspects of our local landscapes during the Winter Evenings series on three Fridays over the coming months. Each presentation begins at 7pm at the Tunbridge Public Library. All are welcome\, refreshments are provided\, and the events are free – donations graciously accepted! \n“Protecting Vermont’s Ecosystem – Backyard Strategies for Corridor Conservation”  \nEmily Ruff of Sage Mountain Botanical Sanctuary will share stories from the Orange Uplands and their efforts to protect an 80\,000 acre high priority wildlife corridor\, diverse wetland habitat\, sensitive watershed\, and rare plant communities. Through these examples\, she’ll highlight ways each of us – whether stewarding a forest or a small backyard – can implement strategies that support the protection of greater corridor ecosystems. \nEmily Ruff is director of Sage Mountain Botanical Sanctuary\, a center in Orange Vermont founded in 1987 to foster opportunities for conservation\, education\, and healing. A practicing herbalist and educator for over twenty years\, Emily relocated from Florida to Vermont in 2018 to continue the legacy of her mentor\, Rosemary Gladstar. Faced with growing threats due to climate change and development\, Sage Mountain’s mission is to protect and restore the highly biodiverse habitat we steward\, advocate for conservation of adjacent wilderness corridors\, and curate hands-on\, multidisciplinary educational programs focused on earth stewardship and personal wellness. \nFor more information\, contact Tunbridge Public Library at 802-889-9404 or email tunbridgeconservation@gmail.com
URL:https://tunbridgevt.org/event/winter-evenings-20250207/
LOCATION:Tunbridge Public Library\, 289 Vermont Route 110\, Tunbridge\, VT\, 05077\, United States
END:VEVENT
BEGIN:VEVENT
DTSTART;TZID=America/New_York:20250206T180000
DTEND;TZID=America/New_York:20250206T200000
DTSTAMP:20260422T175253
CREATED:20250202T172349Z
LAST-MODIFIED:20250202T172542Z
UID:8035-1738864800-1738872000@tunbridgevt.org
SUMMARY:Conservation commission
DESCRIPTION:Conservation commission meeting. Follow this link to see the agenda.
URL:https://tunbridgevt.org/event/conservation-commission-20250206/
LOCATION:Tunbridge Public Library\, 289 Vermont Route 110\, Tunbridge\, VT\, 05077\, United States
END:VEVENT
BEGIN:VEVENT
DTSTART;TZID=America/New_York:20250205T180000
DTEND;TZID=America/New_York:20250205T200000
DTSTAMP:20260422T175253
CREATED:20250203T175524Z
LAST-MODIFIED:20250203T175524Z
UID:8048-1738778400-1738785600@tunbridgevt.org
SUMMARY:Planning commission
DESCRIPTION:Planning commission meeting. Follow this link to see the agenda.
URL:https://tunbridgevt.org/event/planning-commission-20250205/
LOCATION:Town Offices\, 271 Vermont Route 110\, Tunbridge\, VT\, 05077\, United States
END:VEVENT
BEGIN:VEVENT
DTSTART;TZID=America/New_York:20250202T140000
DTEND;TZID=America/New_York:20250202T160000
DTSTAMP:20260422T175253
CREATED:20241221T125439Z
LAST-MODIFIED:20241230T022837Z
UID:7972-1738504800-1738512000@tunbridgevt.org
SUMMARY:Sunday Series
DESCRIPTION:Poetry Reading. Ina Anderson of South Royalton\, who has has lived and taught in Vermont for many years\, will read from her new book Sky Furniture. Tunbridge poet Carol Potter will introduce her. \nThe Sunday Series at the Tunbridge Public Library is a free speaker series featuring two programs a month at 2 p.m.
URL:https://tunbridgevt.org/event/sunday-series-20250202/
LOCATION:Tunbridge Public Library\, 289 Vermont Route 110\, Tunbridge\, VT\, 05077\, United States
END:VEVENT
BEGIN:VEVENT
DTSTART;TZID=America/New_York:20250128T180000
DTEND;TZID=America/New_York:20250128T200000
DTSTAMP:20260422T175253
CREATED:20250125T235032Z
LAST-MODIFIED:20250125T235032Z
UID:8024-1738087200-1738094400@tunbridgevt.org
SUMMARY:Selectboard meeting
DESCRIPTION:Selectboard meeting in person and via the Zoom app. Follow this link to see the agenda. \nClick here to join the Zoom Meeting.
URL:https://tunbridgevt.org/event/selectboard-meeting-20250128/
LOCATION:Town Offices\, 271 Vermont Route 110\, Tunbridge\, VT\, 05077\, United States
END:VEVENT
BEGIN:VEVENT
DTSTART;TZID=America/New_York:20250124T100000
DTEND;TZID=America/New_York:20250124T110000
DTSTAMP:20260422T175253
CREATED:20250119T180537Z
LAST-MODIFIED:20250119T180537Z
UID:8018-1737712800-1737716400@tunbridgevt.org
SUMMARY:Trustee of Public Funds
DESCRIPTION:Trustee of Public Funds meeting.
URL:https://tunbridgevt.org/event/trustee-of-public-funds-20250124/
LOCATION:Town Offices\, 271 Vermont Route 110\, Tunbridge\, VT\, 05077\, United States
END:VEVENT
BEGIN:VEVENT
DTSTART;TZID=America/New_York:20250121T190000
DTEND;TZID=America/New_York:20250121T200000
DTSTAMP:20260422T175253
CREATED:20250118T024936Z
LAST-MODIFIED:20250118T025036Z
UID:8013-1737486000-1737489600@tunbridgevt.org
SUMMARY:Selectboard meeting
DESCRIPTION:The Tunbridge Selectboard will be holding a special meeting to approve the Town Meeting Warning.
URL:https://tunbridgevt.org/event/selectboard-meeting-20250121/
LOCATION:Town Offices\, 271 Vermont Route 110\, Tunbridge\, VT\, 05077\, United States
END:VEVENT
BEGIN:VEVENT
DTSTART;TZID=America/New_York:20250119T140000
DTEND;TZID=America/New_York:20250119T160000
DTSTAMP:20260422T175253
CREATED:20241221T125247Z
LAST-MODIFIED:20241221T125247Z
UID:7970-1737295200-1737302400@tunbridgevt.org
SUMMARY:Sunday Series
DESCRIPTION:Tunbridge Winter Recreation. Panelists Shirley Boles\, Ted Hoyt\, Bonnie McCrillis and Margaret Rogers will reminisce about indoor and outdoor activities when they grew up. \nThe Sunday Series at the Tunbridge Public Library is a free speaker series featuring two programs a month at 2 p.m.
URL:https://tunbridgevt.org/event/sunday-series-20250119/
LOCATION:Tunbridge Public Library\, 289 Vermont Route 110\, Tunbridge\, VT\, 05077\, United States
END:VEVENT
END:VCALENDAR