BEGIN:VCALENDAR
VERSION:2.0
PRODID:-//Town of Tunbridge, Vermont - ECPv6.15.20//NONSGML v1.0//EN
CALSCALE:GREGORIAN
METHOD:PUBLISH
X-ORIGINAL-URL:https://tunbridgevt.org
X-WR-CALDESC:Events for Town of Tunbridge, Vermont
REFRESH-INTERVAL;VALUE=DURATION:PT1H
X-Robots-Tag:noindex
X-PUBLISHED-TTL:PT1H
BEGIN:VTIMEZONE
TZID:America/New_York
BEGIN:DAYLIGHT
TZOFFSETFROM:-0500
TZOFFSETTO:-0400
TZNAME:EDT
DTSTART:20240310T070000
END:DAYLIGHT
BEGIN:STANDARD
TZOFFSETFROM:-0400
TZOFFSETTO:-0500
TZNAME:EST
DTSTART:20241103T060000
END:STANDARD
BEGIN:DAYLIGHT
TZOFFSETFROM:-0500
TZOFFSETTO:-0400
TZNAME:EDT
DTSTART:20250309T070000
END:DAYLIGHT
BEGIN:STANDARD
TZOFFSETFROM:-0400
TZOFFSETTO:-0500
TZNAME:EST
DTSTART:20251102T060000
END:STANDARD
BEGIN:DAYLIGHT
TZOFFSETFROM:-0500
TZOFFSETTO:-0400
TZNAME:EDT
DTSTART:20260308T070000
END:DAYLIGHT
BEGIN:STANDARD
TZOFFSETFROM:-0400
TZOFFSETTO:-0500
TZNAME:EST
DTSTART:20261101T060000
END:STANDARD
END:VTIMEZONE
BEGIN:VEVENT
DTSTART;TZID=America/New_York:20250526T090000
DTEND;TZID=America/New_York:20250526T130000
DTSTAMP:20260422T161816
CREATED:20250518T010046Z
LAST-MODIFIED:20250518T010128Z
UID:8361-1748250000-1748264400@tunbridgevt.org
SUMMARY:First Branch Ambulance 40th Anniversary
DESCRIPTION:First Branch Ambulance 40th Anniversary celebration\, along Main Street. Follow this link for more information.
URL:https://tunbridgevt.org/event/first-branch-ambulance-40th-anniversary-20250526/
LOCATION:Town Hall\, 277 Vermont Route 110\, Tunbridge\, VT\, 05077\, United States
END:VEVENT
BEGIN:VEVENT
DTSTART;TZID=America/New_York:20250526T090000
DTEND;TZID=America/New_York:20250526T130000
DTSTAMP:20260422T161816
CREATED:20250518T010937Z
LAST-MODIFIED:20250523T002154Z
UID:8363-1748250000-1748264400@tunbridgevt.org
SUMMARY:Memorial Day events
DESCRIPTION:Memorial Day in Tunbridge Village. Town Hall program honoring World War II veterans from Tunbridge at 10:30 a.m. Parade from fairgrounds at 11\, followed by wreath-laying ceremony at cemetery. Library Friends’ book and bake sales\, 9-12. Nonprofit displays at the Parish House lawn. Fire Department chicken barbecue (preorders can be made at tvfdbbq@gmail.com) and Recreation Committee ice cream at the fairgrounds after the parade.
URL:https://tunbridgevt.org/event/memorial-day-events-20250526/
LOCATION:Town Hall\, 277 Vermont Route 110\, Tunbridge\, VT\, 05077\, United States
END:VEVENT
END:VCALENDAR