BEGIN:VCALENDAR
VERSION:2.0
PRODID:-//Town of Tunbridge, Vermont - ECPv6.15.20//NONSGML v1.0//EN
CALSCALE:GREGORIAN
METHOD:PUBLISH
X-ORIGINAL-URL:https://tunbridgevt.org
X-WR-CALDESC:Events for Town of Tunbridge, Vermont
REFRESH-INTERVAL;VALUE=DURATION:PT1H
X-Robots-Tag:noindex
X-PUBLISHED-TTL:PT1H
BEGIN:VTIMEZONE
TZID:America/New_York
BEGIN:DAYLIGHT
TZOFFSETFROM:-0500
TZOFFSETTO:-0400
TZNAME:EDT
DTSTART:20240310T070000
END:DAYLIGHT
BEGIN:STANDARD
TZOFFSETFROM:-0400
TZOFFSETTO:-0500
TZNAME:EST
DTSTART:20241103T060000
END:STANDARD
BEGIN:DAYLIGHT
TZOFFSETFROM:-0500
TZOFFSETTO:-0400
TZNAME:EDT
DTSTART:20250309T070000
END:DAYLIGHT
BEGIN:STANDARD
TZOFFSETFROM:-0400
TZOFFSETTO:-0500
TZNAME:EST
DTSTART:20251102T060000
END:STANDARD
BEGIN:DAYLIGHT
TZOFFSETFROM:-0500
TZOFFSETTO:-0400
TZNAME:EDT
DTSTART:20260308T070000
END:DAYLIGHT
BEGIN:STANDARD
TZOFFSETFROM:-0400
TZOFFSETTO:-0500
TZNAME:EST
DTSTART:20261101T060000
END:STANDARD
END:VTIMEZONE
BEGIN:VEVENT
DTSTART;TZID=America/New_York:20250522T170000
DTEND;TZID=America/New_York:20250522T200000
DTSTAMP:20260422T161755
CREATED:20250518T005101Z
LAST-MODIFIED:20250518T005154Z
UID:8353-1747933200-1747944000@tunbridgevt.org
SUMMARY:Community Conversation & Dinner
DESCRIPTION:First Branch Unified District Community Conversation & Dinner with Dr. Van Len: dinner at 5 p.m.\, followed by a community conversation. Follow this link for more information.
URL:https://tunbridgevt.org/event/community-conversation-dinner-20250522/
LOCATION:Tunbridge Central School\, 523 Vermont Route 110\, Tunbridge\, 05077\, United States
END:VEVENT
END:VCALENDAR