BEGIN:VCALENDAR
VERSION:2.0
PRODID:-//Town of Tunbridge, Vermont - ECPv6.15.20//NONSGML v1.0//EN
CALSCALE:GREGORIAN
METHOD:PUBLISH
X-ORIGINAL-URL:https://tunbridgevt.org
X-WR-CALDESC:Events for Town of Tunbridge, Vermont
REFRESH-INTERVAL;VALUE=DURATION:PT1H
X-Robots-Tag:noindex
X-PUBLISHED-TTL:PT1H
BEGIN:VTIMEZONE
TZID:America/New_York
BEGIN:DAYLIGHT
TZOFFSETFROM:-0500
TZOFFSETTO:-0400
TZNAME:EDT
DTSTART:20240310T070000
END:DAYLIGHT
BEGIN:STANDARD
TZOFFSETFROM:-0400
TZOFFSETTO:-0500
TZNAME:EST
DTSTART:20241103T060000
END:STANDARD
BEGIN:DAYLIGHT
TZOFFSETFROM:-0500
TZOFFSETTO:-0400
TZNAME:EDT
DTSTART:20250309T070000
END:DAYLIGHT
BEGIN:STANDARD
TZOFFSETFROM:-0400
TZOFFSETTO:-0500
TZNAME:EST
DTSTART:20251102T060000
END:STANDARD
BEGIN:DAYLIGHT
TZOFFSETFROM:-0500
TZOFFSETTO:-0400
TZNAME:EDT
DTSTART:20260308T070000
END:DAYLIGHT
BEGIN:STANDARD
TZOFFSETFROM:-0400
TZOFFSETTO:-0500
TZNAME:EST
DTSTART:20261101T060000
END:STANDARD
END:VTIMEZONE
BEGIN:VEVENT
DTSTART;TZID=America/New_York:20250510T073000
DTEND;TZID=America/New_York:20250510T093000
DTSTAMP:20260422T161820
CREATED:20250426T211528Z
LAST-MODIFIED:20250426T211528Z
UID:8280-1746862200-1746869400@tunbridgevt.org
SUMMARY:Tunbridge Bird Walk
DESCRIPTION:The Tunbridge Conservation Commission is excited to offer a guided walk along the White River at the Tunbridge Fairgrounds on May 10. Participants will have the opportunity to observe a variety of bird species. We will meet at the Tunbridge Public Library at 7:30 am. \nThis bird-watching walk is designed for everyone\, regardless of experience level. To join\, simply email tunbridgeconservation@gmail.com or just show up! \nParticipants are encouraged to wear suitable footwear and light-colored\, long-sleeved clothing for tick prevention. This will be a gentle walk with little incline. Hope to see you on May 10th!
URL:https://tunbridgevt.org/event/tunbridge-bird-walk-20250510/
LOCATION:Tunbridge Public Library\, 289 Vermont Route 110\, Tunbridge\, VT\, 05077\, United States
END:VEVENT
BEGIN:VEVENT
DTSTART;TZID=America/New_York:20250510T090000
DTEND;TZID=America/New_York:20250510T170000
DTSTAMP:20260422T161820
CREATED:20250523T002044Z
LAST-MODIFIED:20250523T002044Z
UID:8428-1746867600-1746896400@tunbridgevt.org
SUMMARY:Genealogy Day
DESCRIPTION:Genealogy Day with the Tunbridge Historical Society.
URL:https://tunbridgevt.org/event/genealogy-day-20250510/
LOCATION:Family Search Center\, 175 LDS Lane\, South Royalton\, VT\, 05068\, United States
END:VEVENT
END:VCALENDAR